BEGIN:VCALENDAR
VERSION:2.0
PRODID:-//wp-events-plugin.com//7.2.3.1//EN
TZID:America/North_Dakota/Center
X-WR-TIMEZONE:America/North_Dakota/Center
BEGIN:VEVENT
UID:1064@nebraskashooters.com
DTSTART;TZID=America/North_Dakota/Center:20200829T080000
DTEND;TZID=America/North_Dakota/Center:20200829T170000
DTSTAMP:20200813T131152Z
URL:https://www.nebraskashooters.com/events/lewisville-ccw-8-29-20/
SUMMARY:Lewisville-CCW 8-29-20
DESCRIPTION:Nebraska Concealed Handgun Training\nInstructed by William Zimd
 ars\nThis is the course required by the State of Nebraska to satisfy the t
 raining requirements to get your Concealed Handgun Permit (CHP). After yea
 rs of refinement our instructors have developed a course that is easy for 
 the new shooter to understand while still offering excellent information t
 o the experienced shooters. The Nebraska Conceal Handgun Training will mee
 t requirements to get your Nebraska permit. Nebraska’s permit will enabl
 e legal concealed carry in 34 states.  Check out the reciprocity page for
  more details. This class will also meet the requirements for Iowa or Colo
 rado residents to get their concealed carry permit. This is a non-NRA cour
 se taught by an NRA Certified Instructor in strict accordance with a state
 -approved lesson plan.\n\nIt is required that you bring 100 rounds of ammo
  and your favorite handgun with a dominant-side holster  If you need to b
 orrow a handgun and holster\, we can provide you with the equipment and yo
 u will just need to pay for the ammunition.  You will also need eye and h
 earing protection.  Please bring a sack lunch since there are no restaura
 nts nearby. Drinks and snacks will be available throughout the day.   Als
 o\, please bring a billed cap and no low cut shirts to catch hot brass.\n\
 nWe are also offering an optional Minnesota Non-Resident add-on course af
 ter class if anyone is interested.  This is approximately 1 hour and th
 e cost is $20.\n\nGuarantee: As many of you know\, there are instructors i
 n Nebraska who are offering a quickie course which does not cover the requ
 ired material.  Our classes are guaranteed to cover the required material
  so there is no risk of you losing your permit due to inadequate training.
  This also ensures that you have been introduced to the legal responsibili
 ties of carrying a firearm for self defense which could easily save you a 
 lot of trouble and hopefully keep you out of court.\n\n&nbsp\;
ATTACH;FMTTYPE=image/jpeg:https://www.nebraskashooters.com/wp-content/uplo
 ads/2018/07/ComeSeeNS.jpg
CATEGORIES:Everything,Minnesota,Nebraska Concealed Handgun
 Training,Southeast
LOCATION:Louisville\, 10306 144th Street\, Louisville\, Nebraska\, 68037\, 
 2\, United States
GEO:41.001832;-96.092669
X-APPLE-STRUCTURED-LOCATION;VALUE=URI;X-ADDRESS=10306 144th Street\, Louisv
 ille\, Nebraska\, 68037\, 2\, United States;X-APPLE-RADIUS=100;X-TITLE=Lou
 isville:geo:41.001832,-96.092669
END:VEVENT
BEGIN:VTIMEZONE
TZID:America/North_Dakota/Center
X-LIC-LOCATION:America/North_Dakota/Center
BEGIN:DAYLIGHT
DTSTART:20200308T030000
TZOFFSETFROM:-0600
TZOFFSETTO:-0500
TZNAME:CDT
END:DAYLIGHT
END:VTIMEZONE
END:VCALENDAR