BEGIN:VCALENDAR
VERSION:2.0
PRODID:-//wp-events-plugin.com//7.2.3.1//EN
TZID:America/North_Dakota/Center
X-WR-TIMEZONE:America/North_Dakota/Center
BEGIN:VEVENT
UID:1080@nebraskashooters.com
DTSTART;TZID=America/North_Dakota/Center;VALUE=DATE:20201016
DTEND;TZID=America/North_Dakota/Center;VALUE=DATE:20201019
DTSTAMP:20201012T155512Z
URL:https://www.nebraskashooters.com/events/intro-to-long-range-precision-
 rifle/
SUMMARY:Intro to Long Range Precision Rifle
DESCRIPTION:Introduction to Long Range Precision Rifle\n\n\nInstructed by C
 haz Macrander and his cadre\n\nThis class is a 24 hour block of instructio
 n on precision rifle setup\, external ballistics\, precision rifle shootin
 g fundamentals and how to apply those fundamentals in field conditions. Mo
 st rifle shooters already have the equipment necessary to be effective at 
 ranges from 100-500 yards in almost any wind condition and much further th
 an that under ideal conditions. This class will show the students how unlo
 ck their shooting potential and turn those 400-500 yard shots that were pr
 eviously thought to be long range into simple chip shots.\n\nAt the end of
  this course students will be impacting targets between 400-500 yards util
 izing modified shooting positions (trees\, rocks and tripods) and targets 
 out to 1\,000 yards utilizing prone shooting positions.\n\nFor more info y
 ou can sign up through the Concealed Carry Omaha website\n\nhttp://conceal
 edcarryomaha.com/precision-rifle-class/\n\nThis is not a Nebraska Shooters
  event\, but we support what Mr. Macrander is offering and encourage you t
 o check it out.\n\n
CATEGORIES:Everything
LOCATION:Nebraska Shooters\, 3200 Gage Rd\, Firth\, Nebraska\, 68358\, Unit
 ed States
GEO:40.524337;-96.675525
X-APPLE-STRUCTURED-LOCATION;VALUE=URI;X-ADDRESS=3200 Gage Rd\, Firth\, Nebr
 aska\, 68358\, United States;X-APPLE-RADIUS=100;X-TITLE=Nebraska Shooters:
 geo:40.524337,-96.675525
END:VEVENT
BEGIN:VTIMEZONE
TZID:America/North_Dakota/Center
X-LIC-LOCATION:America/North_Dakota/Center
BEGIN:DAYLIGHT
DTSTART:20200308T030000
TZOFFSETFROM:-0600
TZOFFSETTO:-0500
TZNAME:CDT
END:DAYLIGHT
END:VTIMEZONE
END:VCALENDAR