BEGIN:VCALENDAR
VERSION:2.0
PRODID:-//wp-events-plugin.com//7.2.3.1//EN
TZID:America/North_Dakota/Center
X-WR-TIMEZONE:America/North_Dakota/Center
BEGIN:VEVENT
UID:796@nebraskashooters.com
DTSTART;TZID=America/North_Dakota/Center;VALUE=DATE:20190629
DTEND;TZID=America/North_Dakota/Center;VALUE=DATE:20190708
DTSTAMP:20190530T190141Z
URL:https://www.nebraskashooters.com/events/independence-day-instructor-pa
 ckage/
SUMMARY:Independence Day Instructor Package
DESCRIPTION:This is a rare opportunity to obtain multiple NRA instructor cr
 edentials in one week at less than half price.\n\nWe are offering in this 
 package:\n\nJune 29\, 2019 NRA Personal Protection In the Home ($125)\nJun
 e 30\, 2019 NRA Personal Protection in the Home Instructor Course ($150)\
 nJuly 1&amp\;2\, 2019 NRA Personal Protection Outside the Home ($150)\nJu
 ly 2&amp\;3\, 2019 NRA Personal Protection Outside the Home Instructor Cou
 rse ($150)\nJuly 4\, 2019 9:00 am Gunshot Wound First Aid Level I ($50)\n
 July 4\, 2019 1:00 pm Gunshot Wound First Aid Level II ($50)\nJuly 4\, 201
 9 4:00 pm Student Appreciation Event - Open range/Pin Shoot\, explosions\,
  Cajun Boil\, and live entertainment ($20 Entry Fee)\nJuly 5\, 2019  NRA 
 Refuse to be a Victim ($35)\nJuly 5\, 2019 NRA Refuse to be a Victim Instr
 uctor Course ($200)\nJuly 5th 5:30 Utah Non-Resident Concealed Firearm Tra
 ining ($35)\nJuly 6th\, 2019  NRA Range Safety Officer ($80)\nJuly 7\, 20
 19  NRA Chief Range Safety Officer($150)\n\nWe are also offering free lod
 ging for anyone traveling to this event while space is available.  All lu
 nches are included.\n\nThese class will be taught by an assortment of our 
 qualified staff and we will have ammo available at current market value fo
 r those flying.  We can also arrange for pickup and drop off at the Linco
 ln Airport.\n\nFor our records\, please indicate which courses you plan to
  attend.  Keep in mind that the PPITH and PPOTH instructor courses will r
 equire that you have your NRA Basic Pistol Instructor course as a prerequi
 site and the PPOTH student course will require you to pass the PPITH stude
 nt course.
ATTACH;FMTTYPE=image/jpeg:https://www.nebraskashooters.com/wp-content/uplo
 ads/2019/05/4thofjuly.jpg
CATEGORIES:Defensive Pistol,Everything,NRA Instructor Courses,NRA Student
 Courses,Personal Protection Inside the Home,Personal Protection Outside
 The Home,Range Safety Officer,Southeast
LOCATION:Nebraska Shooters\, 3200 Gage Rd\, Firth\, Nebraska\, 68358\, Unit
 ed States
GEO:40.524337;-96.675525
X-APPLE-STRUCTURED-LOCATION;VALUE=URI;X-ADDRESS=3200 Gage Rd\, Firth\, Nebr
 aska\, 68358\, United States;X-APPLE-RADIUS=100;X-TITLE=Nebraska Shooters:
 geo:40.524337,-96.675525
END:VEVENT
BEGIN:VTIMEZONE
TZID:America/North_Dakota/Center
X-LIC-LOCATION:America/North_Dakota/Center
BEGIN:DAYLIGHT
DTSTART:20190310T030000
TZOFFSETFROM:-0600
TZOFFSETTO:-0500
TZNAME:CDT
END:DAYLIGHT
END:VTIMEZONE
END:VCALENDAR