BEGIN:VCALENDAR
VERSION:2.0
PRODID:-//wp-events-plugin.com//7.2.3.1//EN
TZID:America/North_Dakota/Center
X-WR-TIMEZONE:America/North_Dakota/Center
BEGIN:VEVENT
UID:1099@nebraskashooters.com
DTSTART;TZID=America/North_Dakota/Center:20201114T080000
DTEND;TZID=America/North_Dakota/Center:20201114T170000
DTSTAMP:20201120T014046Z
URL:https://www.nebraskashooters.com/events/imperial-ccw-11-14-20/
SUMMARY:Imperial-CCW 11-14-20
DESCRIPTION:Nebraska Concealed Handgun Training\nInstructed by Justin Grusi
 ng and Bob Howard\nThis is the course required by the State of Nebraska to
  satisfy the training requirements to get your Concealed Handgun Permit (C
 HP). After years of refinement our instructors have developed a course tha
 t is easy for the new shooter to understand while still offering excellent
  information to the experienced shooters. The Nebraska Conceal Handgun Tra
 ining will meet requirements to get your Nebraska permit. Nebraska’s per
 mit will enable legal concealed carry in 34 states.  Check out the recipr
 ocity page for more details. This class will also meet the requirements fo
 r Iowa or Colorado residents to get their concealed carry permit. This is 
 a non-NRA course taught by an NRA Certified Instructor in strict accordanc
 e with a state-approved lesson plan.\n\nIt is required that you bring:\n\n
  	 100 rounds of ammo\n 	handgun\n 	dominant-side holster and belt\n 	eye 
 and hearing protection (Prescription glasses are acceptable)\n\n  If you 
 need to borrow a handgun and holster\, we can provide you with the equipme
 nt and you will just need to bring the ammunition.  Lunch will be deliver
 ed.   Also\, please bring a billed cap and no low cut shirts to catch ho
 t brass.\n\nWe are also offering an optional Minnesota Non-Resident add-on
  course after class if anyone is interested.  This is approximately 1 add
 itional hour and the cost is $20.\n\nGuarantee: As many of you know\, ther
 e are instructors in Nebraska who are offering a quickie course which does
  not cover the required material.  Our classes are guaranteed to cover th
 e required material so there is no risk of you losing your permit due to i
 nadequate training. This also ensures that you have been introduced to the
  legal responsibilities of carrying a firearm for self defense which could
  easily save you a lot of trouble and hopefully keep you out of court.\n\n
 \n\nBring a friend and get a discount. For group and military discounts pl
 ease follow instructions HERE.
ATTACH;FMTTYPE=image/jpeg:https://www.nebraskashooters.com/wp-content/uplo
 ads/2018/07/ComeSeeNS.jpg
CATEGORIES:Everything,Imperial,Minnesota,Nebraska Concealed Handgun
 Training,Panhandle
LOCATION:Imperial Catholic Church\, 128 East 7th St.\, Imperial\, NE\, 6903
 3\, 7\, United States
X-APPLE-STRUCTURED-LOCATION;VALUE=URI;X-ADDRESS=128 East 7th St.\, Imperial
 \, NE\, 69033\, 7\, United States;X-APPLE-RADIUS=100;X-TITLE=Imperial Cath
 olic Church:geo:0,0
END:VEVENT
BEGIN:VTIMEZONE
TZID:America/North_Dakota/Center
X-LIC-LOCATION:America/North_Dakota/Center
BEGIN:STANDARD
DTSTART:20201101T010000
TZOFFSETFROM:-0500
TZOFFSETTO:-0600
TZNAME:CST
END:STANDARD
END:VTIMEZONE
END:VCALENDAR