BEGIN:VCALENDAR
VERSION:2.0
PRODID:-//wp-events-plugin.com//7.2.3.1//EN
TZID:America/North_Dakota/Center
X-WR-TIMEZONE:America/North_Dakota/Center
BEGIN:VEVENT
UID:749@nebraskashooters.com
DTSTART;TZID=America/North_Dakota/Center:20190302T080000
DTEND;TZID=America/North_Dakota/Center:20190303T170000
DTSTAMP:20181228T153905Z
URL:https://www.nebraskashooters.com/events/hunter-safety-education-8/
SUMMARY:Hunter Safety Education
DESCRIPTION:If you need your hunter safety education and would like to get 
 your archery certificate as well\, this is a great opportunity.   This is
  two days of class which includes a lot of time outside in the field and l
 ive fire with rifle\, shotgun\, and archery.  Students are welcome to bri
 ng their own firearms on Sunday if they would like to use them for the cla
 ss. Otherwise\, all firearms and ammo will be provided.  Saturday will b
 e primarily classroom work and we will finish class on Sunday afternoon. 
  We will start the Sunday class at 8:00 and we hope to be done around 2:00
  pm.\n\nWe will also be covering the material for the Bowhunter Education 
 as well so you can get both certifications in one weekend.\n\nPlease sign 
 up with the student's information rather than the parent's information.  
 This will alleviate a lot of confusion later.\n\nStudents will be required
  to bring their own lunch and please dress appropriately for the weather.\
 n\n&nbsp\;
ATTACH;FMTTYPE=image/jpeg:https://www.nebraskashooters.com/wp-content/uplo
 ads/2018/12/HunterSafetyImage.jpg
CATEGORIES:Everything,Hunter Safety Education
LOCATION:Nebraska Shooters\, 3200 Gage Rd\, Firth\, Nebraska\, 68358\, Unit
 ed States
GEO:40.524337;-96.675525
X-APPLE-STRUCTURED-LOCATION;VALUE=URI;X-ADDRESS=3200 Gage Rd\, Firth\, Nebr
 aska\, 68358\, United States;X-APPLE-RADIUS=100;X-TITLE=Nebraska Shooters:
 geo:40.524337,-96.675525
END:VEVENT
BEGIN:VTIMEZONE
TZID:America/North_Dakota/Center
X-LIC-LOCATION:America/North_Dakota/Center
BEGIN:STANDARD
DTSTART:20181104T010000
TZOFFSETFROM:-0500
TZOFFSETTO:-0600
TZNAME:CST
END:STANDARD
END:VTIMEZONE
END:VCALENDAR