BEGIN:VCALENDAR
VERSION:2.0
PRODID:-//wp-events-plugin.com//7.2.3.1//EN
TZID:America/North_Dakota/Center
X-WR-TIMEZONE:America/North_Dakota/Center
BEGIN:VEVENT
UID:543@nebraskashooters.com
DTSTART;TZID=America/North_Dakota/Center:20180210T080000
DTEND;TZID=America/North_Dakota/Center:20180211T170000
DTSTAMP:20171114T224349Z
URL:https://www.nebraskashooters.com/events/hunter-safety-education-6/
SUMMARY:Hunter Safety Education
DESCRIPTION:\n	If you need your hunter safety education and would like to g
 et your archery certificate as well\, this is a great opportunity. &nbsp\;
  This is two days of class which includes a lot of time outside in the fie
 ld and live fire with rifle\, shotgun\, and archery. &nbsp\;Students are w
 elcome to bring their own firearms on Sunday if they would like to use the
 m for the class. Otherwise\, all firearms and ammo will be provided.&nbsp\
 ;&nbsp\;Saturday will be primarily classroom work and we will finish class
  on Sunday afternoon.&nbsp\; We will start the Sunday class at 1:00 and we
  hope to be done around 5 or 6:00pm.\n\n\n\n	We will also be covering the 
 material for the Bowhunter Education as well so you can get both certifica
 tions in one weekend.\n\n\n\n	Please sign up with the student&#39\;s infor
 mation rather than the parent&#39\;s information. &nbsp\;This will allevia
 te a lot of confusion later.\n\n\n\n	Students will be required to bring th
 eir own lunch on Saturday&nbsp\;and please dress appropriately for the wea
 ther.\n\n\n\n	\n\n
ATTACH;FMTTYPE=image/jpeg:https://www.nebraskashooters.com/wp-content/uplo
 ads/2017/01/Nebraska-Shooters-PF-1-Billboard.jpg
CATEGORIES:Everything,Hunter Safety Education
LOCATION:Nebraska Shooters\, 3200 Gage Rd\, Firth\, Nebraska\, 68358\, Unit
 ed States
GEO:40.524337;-96.675525
X-APPLE-STRUCTURED-LOCATION;VALUE=URI;X-ADDRESS=3200 Gage Rd\, Firth\, Nebr
 aska\, 68358\, United States;X-APPLE-RADIUS=100;X-TITLE=Nebraska Shooters:
 geo:40.524337,-96.675525
END:VEVENT
BEGIN:VTIMEZONE
TZID:America/North_Dakota/Center
X-LIC-LOCATION:America/North_Dakota/Center
BEGIN:STANDARD
DTSTART:20171105T010000
TZOFFSETFROM:-0500
TZOFFSETTO:-0600
TZNAME:CST
END:STANDARD
END:VTIMEZONE
END:VCALENDAR