BEGIN:VCALENDAR
VERSION:2.0
PRODID:-//wp-events-plugin.com//7.2.3.1//EN
TZID:America/North_Dakota/Center
X-WR-TIMEZONE:America/North_Dakota/Center
BEGIN:VEVENT
UID:433@nebraskashooters.com
DTSTART;TZID=America/North_Dakota/Center:20170715T080000
DTEND;TZID=America/North_Dakota/Center:20170716T170000
DTSTAMP:20170417T183041Z
URL:https://www.nebraskashooters.com/events/hunter-safety-education-5/
SUMMARY:Hunter Safety Education
DESCRIPTION:\n	If you need your hunter safety education and would like to g
 et your archery certificate as well\, this is a great opportunity. &nbsp\;
  This is two days of class which includes a lot of time outside in the fie
 ld and live fire with rifle\, shotgun\, and archery. &nbsp\;Students are w
 elcome to bring their own firearms on Sunday if they would like to use the
 m for the class. Otherwise\, all firearms and ammo will be provided.&nbsp\
 ;&nbsp\;Saturday will be primarily classroom work and we will finish class
  on Sunday afternoon starting at 12:30&nbsp\;with the field activities and
  the test. &nbsp\;We hope to be done around 5 or 6:00pm&nbsp\;or shortly a
 fter.\n\n\n\n	We will also be covering the material for the Bowhunter Educ
 ation as well so you can get both certifications in one weekend.\n\n\n\n	P
 lease sign up with the student&#39\;s information rather than the parent&#
 39\;s information. &nbsp\;This will alleviate a lot of confusion later.\n\
 n\n\n	Students will be required to bring their own lunch both days and ple
 ase dress appropriately for the weather.\n\n\n\n	\n\n
ATTACH;FMTTYPE=image/jpeg:https://www.nebraskashooters.com/wp-content/uplo
 ads/2017/01/Nebraska-Shooters-PF-1-Billboard.jpg
CATEGORIES:Everything,Hunter Safety Education
LOCATION:Nebraska Shooters\, 3200 Gage Rd\, Firth\, Nebraska\, 68358\, Unit
 ed States
GEO:40.524337;-96.675525
X-APPLE-STRUCTURED-LOCATION;VALUE=URI;X-ADDRESS=3200 Gage Rd\, Firth\, Nebr
 aska\, 68358\, United States;X-APPLE-RADIUS=100;X-TITLE=Nebraska Shooters:
 geo:40.524337,-96.675525
END:VEVENT
BEGIN:VTIMEZONE
TZID:America/North_Dakota/Center
X-LIC-LOCATION:America/North_Dakota/Center
BEGIN:DAYLIGHT
DTSTART:20170312T030000
TZOFFSETFROM:-0600
TZOFFSETTO:-0500
TZNAME:CDT
END:DAYLIGHT
END:VTIMEZONE
END:VCALENDAR