BEGIN:VCALENDAR
VERSION:2.0
PRODID:-//wp-events-plugin.com//7.2.3.1//EN
TZID:America/North_Dakota/Center
X-WR-TIMEZONE:America/North_Dakota/Center
BEGIN:VEVENT
UID:750@nebraskashooters.com
DTSTART;TZID=America/North_Dakota/Center:20190301T173000
DTEND;TZID=America/North_Dakota/Center:20190301T210000
DTSTAMP:20181228T154635Z
URL:https://www.nebraskashooters.com/events/hunter-education-instructor-wo
 rkshop-3/
SUMMARY:Hunter Education Instructor Workshop
DESCRIPTION:If you are interested in becoming a hunter education instructo
 r for the Nebraska Game and Parks\, this is where you start.  We will cov
 er the basics of the Hunter Education program as well as many important co
 ncepts on teaching the classes.  This workshop will cover both firearm a
 nd bow teaching topics.\n\nThis is a free course and passing this course d
 oes not make you a certified instructor.  You will still need to apprenti
 ce and be approved by the Nebraska Game and Parks.\n\nWe will have a Hunte
 r Education class scheduled on the following two days so you would be able
  to fulfill your apprenticeship requirements right away.\n\nYou will also 
 need to complete the BSA Youth Protection program at some point\,so you mi
 ght as well get that done before class.\n\nFree lodging is available upon 
 request.
ATTACH;FMTTYPE=image/jpeg:https://www.nebraskashooters.com/wp-content/uplo
 ads/2018/12/HunterSafetyImage.jpg
CATEGORIES:Everything,Hunter Safety Education,Hunter Safety
 Instructor,Nebraska Shooters Range,Southeast
LOCATION:Nebraska Shooters\, 3200 Gage Rd\, Firth\, Nebraska\, 68358\, Unit
 ed States
GEO:40.524337;-96.675525
X-APPLE-STRUCTURED-LOCATION;VALUE=URI;X-ADDRESS=3200 Gage Rd\, Firth\, Nebr
 aska\, 68358\, United States;X-APPLE-RADIUS=100;X-TITLE=Nebraska Shooters:
 geo:40.524337,-96.675525
END:VEVENT
BEGIN:VTIMEZONE
TZID:America/North_Dakota/Center
X-LIC-LOCATION:America/North_Dakota/Center
BEGIN:STANDARD
DTSTART:20181104T010000
TZOFFSETFROM:-0500
TZOFFSETTO:-0600
TZNAME:CST
END:STANDARD
END:VTIMEZONE
END:VCALENDAR