BEGIN:VCALENDAR
VERSION:2.0
PRODID:-//wp-events-plugin.com//7.2.3.1//EN
TZID:America/North_Dakota/Center
X-WR-TIMEZONE:America/North_Dakota/Center
BEGIN:VEVENT
UID:548@nebraskashooters.com
DTSTART;TZID=America/North_Dakota/Center:20180209T173000
DTEND;TZID=America/North_Dakota/Center:20180209T210000
DTSTAMP:20171128T173602Z
URL:https://www.nebraskashooters.com/events/hunter-education-instructor-wo
 rkshop-2/
SUMMARY:Hunter Education Instructor Workshop
DESCRIPTION:\n	If you are interested in becoming a hunter education&nbsp\;i
 nstructor for the Nebraska Game and Parks\, this is where you start. &nbsp
 \;We will cover the basics of the Hunter Education program as well as many
  important concepts&nbsp\;on teaching the classes. &nbsp\;This workshop wi
 ll cover both firearm and bow teaching topics.\n\n\n\n	This is a free cour
 se and passing this course does not make you a certified instructor. &nbsp
 \;You will still need to apprentice and be approved by the Nebraska Game a
 nd Parks.&nbsp\;\n\n\n\n	We will have a Hunter Education class scheduled o
 n the following two days so you would be able to fulfill your apprenticesh
 ip requirements right away.&nbsp\;&nbsp\;\n\n\n\n	Lodging is available upo
 n request.\n\n
CATEGORIES:Everything,Hunter Safety Education,Hunter Safety
 Instructor,Nebraska Shooters Range,Southeast
LOCATION:Nebraska Shooters\, 3200 Gage Rd\, Firth\, Nebraska\, 68358\, Unit
 ed States
GEO:40.524337;-96.675525
X-APPLE-STRUCTURED-LOCATION;VALUE=URI;X-ADDRESS=3200 Gage Rd\, Firth\, Nebr
 aska\, 68358\, United States;X-APPLE-RADIUS=100;X-TITLE=Nebraska Shooters:
 geo:40.524337,-96.675525
END:VEVENT
BEGIN:VTIMEZONE
TZID:America/North_Dakota/Center
X-LIC-LOCATION:America/North_Dakota/Center
BEGIN:STANDARD
DTSTART:20171105T010000
TZOFFSETFROM:-0500
TZOFFSETTO:-0600
TZNAME:CST
END:STANDARD
END:VTIMEZONE
END:VCALENDAR