BEGIN:VCALENDAR
VERSION:2.0
PRODID:-//wp-events-plugin.com//7.2.3.1//EN
TZID:America/North_Dakota/Center
X-WR-TIMEZONE:America/North_Dakota/Center
BEGIN:VEVENT
UID:1954@nebraskashooters.com
DTSTART;TZID=America/North_Dakota/Center:20251220T160000
DTEND;TZID=America/North_Dakota/Center:20251220T180000
DTSTAMP:20251202T200909Z
URL:https://www.nebraskashooters.com/events/hunt-safe-session-7/
SUMMARY:Hunt Safe Session
DESCRIPTION:If you need your hunter safety education before trap season sta
 rts\, this is a great opportunity.   This is the 2 hour session required 
 for those under 16 years old to complete the online course.  We start at 
 4:00 p.m. and you should be done with the required session by 6:00 pm.\n\n
 This will be taught at our Firth location at 3200 Gage Rd.\n\nStudents ove
 r 16 years old have the option of doing the entire course online\, but for
  students between 11 and 16 this two hour session is required to complete 
 the online course.\n\nYou can take the online course for firearm\, archery
  or both here: http://outdoornebraska.gov/huntereducation/\n\nPlease make
  sure you complete your online course(s) before class or you will not get 
 credit for the session.\n\nMake sure to use the correct information for th
 e student.  If you plug in the parent's SS# or a fake number\, there will
  be issues later.\n\n&nbsp\;
ATTACH;FMTTYPE=image/jpeg:https://www.nebraskashooters.com/wp-content/uplo
 ads/2018/12/HunterSafetyImage.jpg
CATEGORIES:Everything,Hunter Safety Education
LOCATION:Nebraska Shooters\, 3200 Gage Rd\, Firth\, Nebraska\, 68358\, Unit
 ed States
GEO:40.524337;-96.675525
X-APPLE-STRUCTURED-LOCATION;VALUE=URI;X-ADDRESS=3200 Gage Rd\, Firth\, Nebr
 aska\, 68358\, United States;X-APPLE-RADIUS=100;X-TITLE=Nebraska Shooters:
 geo:40.524337,-96.675525
END:VEVENT
BEGIN:VTIMEZONE
TZID:America/North_Dakota/Center
X-LIC-LOCATION:America/North_Dakota/Center
BEGIN:STANDARD
DTSTART:20251102T010000
TZOFFSETFROM:-0500
TZOFFSETTO:-0600
TZNAME:CST
END:STANDARD
END:VTIMEZONE
END:VCALENDAR