BEGIN:VCALENDAR
VERSION:2.0
PRODID:-//wp-events-plugin.com//7.2.3.1//EN
TZID:America/North_Dakota/Center
X-WR-TIMEZONE:America/North_Dakota/Center
BEGIN:VEVENT
UID:763@nebraskashooters.com
DTSTART;TZID=America/North_Dakota/Center:20190209T140000
DTEND;TZID=America/North_Dakota/Center:20190209T160000
DTSTAMP:20190108T212313Z
URL:https://www.nebraskashooters.com/events/hunt-safe-session-5/
SUMMARY:Hunt Safe Session
DESCRIPTION:If you need your hunter safety education and would like to get 
 your archery certificate as well\, this is a great opportunity.   This is
  the 2 hour session required to complete the online course with an option
 al workshop after the session which includes a lot of time in the field a
 nd live fire with rifle\, shotgun\, and archery.  We start at 2:00 p.m. a
 nd you should be done with the required session by 4:00 pm.\n\nStudents ov
 er 16 years old have the option of doing the entire course online\, but fo
 r students between 11 and 16 this two hour session is required to complete
  the online course.\n\nWe will also be covering the material for the Bowhu
 nter Education as well so you can optionally get both certifications in on
 e day if you do the online bowhunter course as well.\n\nYou can take the o
 nline course for firearm\, archery or both here: http://outdoornebraska.g
 ov/huntereducation/\n\nPlease make sure you complete your online course(s)
  before class or you will not get credit for the session.\n\nPlease dress 
 appropriately for the weather.
ATTACH;FMTTYPE=image/jpeg:https://www.nebraskashooters.com/wp-content/uplo
 ads/2014/12/NeShootersBlack2inch.jpg
CATEGORIES:Everything,Hunter Safety Education
LOCATION:Nebraska Shooters\, 3200 Gage Rd\, Firth\, Nebraska\, 68358\, Unit
 ed States
GEO:40.524337;-96.675525
X-APPLE-STRUCTURED-LOCATION;VALUE=URI;X-ADDRESS=3200 Gage Rd\, Firth\, Nebr
 aska\, 68358\, United States;X-APPLE-RADIUS=100;X-TITLE=Nebraska Shooters:
 geo:40.524337,-96.675525
END:VEVENT
BEGIN:VTIMEZONE
TZID:America/North_Dakota/Center
X-LIC-LOCATION:America/North_Dakota/Center
BEGIN:STANDARD
DTSTART:20181104T010000
TZOFFSETFROM:-0500
TZOFFSETTO:-0600
TZNAME:CST
END:STANDARD
END:VTIMEZONE
END:VCALENDAR