BEGIN:VCALENDAR
VERSION:2.0
PRODID:-//wp-events-plugin.com//7.2.3.1//EN
TZID:America/North_Dakota/Center
X-WR-TIMEZONE:America/North_Dakota/Center
BEGIN:VEVENT
UID:1071@nebraskashooters.com
DTSTART;TZID=America/Denver:20200920T080000
DTEND;TZID=America/Denver:20200920T170000
DTSTAMP:20200917T135700Z
URL:https://www.nebraskashooters.com/events/gering-ccw-9-20-20/
SUMMARY:Gering-CCW-9-20-20
DESCRIPTION:Nebraska Concealed Handgun Training\nSOLD OUT\nInstructed by Du
 stin and Renee Thomas.\n\nThis is the course required by the State of Nebr
 aska to satisfy the training requirements to get your Concealed Handgun Pe
 rmit (CHP). After years of refinement our instructors have developed a cou
 rse that is easy for the new shooter to understand while still offering ex
 cellent information to the experienced shooters. The Nebraska Conceal Hand
 gun Training will meet requirements to get your Nebraska permit. Nebraska
 ’s permit will enable legal concealed carry in 34 states.  Check out th
 e reciprocity page for more details. This class will also meet the require
 ments for Iowa or Colorado residents to get their concealed carry permit. 
 This is a non-NRA course taught by an NRA Certified Instructor in strict a
 ccordance with a state-approved lesson plan. Feel free to contact Renee Th
 omas for more information at (308)249-1612.\n\nIt is required that you bri
 ng 100 rounds of ammo and your favorite handgun with a dominant-side holst
 er  If you need to borrow a handgun and holster\, we can provide you with
  the equipment and you will just need to pay for the ammunition.  You wil
 l also need eye and hearing protection.  \n\nYou also have the option of
  sticking around to get your Minnesota Non-Resident training for an extra 
 $20.  This training is recognized by the State of Minnesota when applying
  for your Minnesota Carry Permit. This permit will allow you to carry conc
 ealed or open when traveling through the state of Minnesota. The Minnesota
  curriculum requires our Nebraska Concealed Handgun course in order to obt
 ain the full course.\n\nGuarantee: As many of you know\, there are instruc
 tors in Nebraska who are offering a quickie course which does not cover th
 e required material.  Our classes are guaranteed to cover the required ma
 terial so there is no risk of you losing your permit due to inadequate tra
 ining. This also ensures that you have been introduced to the legal respon
 sibilities of carrying a firearm for self defense which could easily save 
 you a lot of trouble and hopefully keep you out of court.\n\nIf you need t
 o withdraw\, please give plenty of notice.  Read our REFUND POLICY HERE.\
 n\nEach student will need to register separately.  Each student needs to 
 have their own email address. Please double check your name as it appears 
 on your driver's license because your certificate will need to match exact
 ly.  (Include middle name or initial if it is on your DL)\n\nBring a frie
 nd and get a discount following THESE INSTRUCTIONS.
ATTACH;FMTTYPE=image/jpeg:https://www.nebraskashooters.com/wp-content/uplo
 ads/2019/12/ComeSeeNS1.jpg
CATEGORIES:Everything,Gering,Minnesota,Nebraska Concealed Handgun
 Training,Panhandle,Scottsbluff
LOCATION:Sure Shot Gun Range\,  1346 10th St\, Gering\, Nebraska\, 69341\, 
 United States
GEO:41.82239999999999;-103.65999999999997
X-APPLE-STRUCTURED-LOCATION;VALUE=URI;X-ADDRESS= 1346 10th St\, Gering\, Ne
 braska\, 69341\, United States;X-APPLE-RADIUS=100;X-TITLE=Sure Shot Gun Ra
 nge:geo:41.82239999999999,-103.65999999999997
END:VEVENT
BEGIN:VTIMEZONE
TZID:America/Denver
X-LIC-LOCATION:America/Denver
BEGIN:DAYLIGHT
DTSTART:20200308T030000
TZOFFSETFROM:-0700
TZOFFSETTO:-0600
TZNAME:MDT
END:DAYLIGHT
END:VTIMEZONE
END:VCALENDAR