BEGIN:VCALENDAR
VERSION:2.0
PRODID:-//wp-events-plugin.com//7.2.3.1//EN
TZID:America/North_Dakota/Center
X-WR-TIMEZONE:America/North_Dakota/Center
BEGIN:VEVENT
UID:1098@nebraskashooters.com
DTSTART;TZID=America/Denver:20201108T080000
DTEND;TZID=America/Denver:20201108T170000
DTSTAMP:20201106T182614Z
URL:https://www.nebraskashooters.com/events/gering-ccw-11-8-20/
SUMMARY:Gering-CCW-11-8-20
DESCRIPTION:Nebraska Concealed Handgun Training\n\nInstructed by Dustin and
  Renee Thomas.\n\nThis is the course required by the State of Nebraska to 
 satisfy the training requirements to get your Concealed Handgun Permit (CH
 P). After years of refinement our instructors have developed a course that
  is easy for the new shooter to understand while still offering excellent 
 information to the experienced shooters. The Nebraska Conceal Handgun Trai
 ning will meet requirements to get your Nebraska permit. Nebraska’s perm
 it will enable legal concealed carry in 34 states.  Check out the recipro
 city page for more details. This class will also meet the requirements for
  Iowa or Colorado residents to get their concealed carry permit. This is a
  non-NRA course taught by an NRA Certified Instructor in strict accordance
  with a state-approved lesson plan. Feel free to contact Renee Thomas for 
 more information at (308)249-1612.\n\nIt is required that you bring:\n\n 	
  100 rounds of ammo\n 	handgun\n 	dominant-side holster and belt\n 	eye an
 d hearing protection (Prescription glasses will be acceptable)\n\n  If yo
 u need to borrow a handgun and holster\, we can provide you with the equip
 ment and you will just need to provide the ammunition.   \n\nYou also ha
 ve the option of sticking around to get your Minnesota Non-Resident traini
 ng for an extra $20.  This training is recognized by the State of Minneso
 ta when applying for your Minnesota Carry Permit. This permit will allow y
 ou to carry concealed or open when traveling through the state of Minnesot
 a. The Minnesota curriculum requires our Nebraska Concealed Handgun course
  in order to obtain the full course.\n\nGuarantee: As many of you know\, t
 here are instructors in Nebraska who are offering a quickie course which d
 oes not cover the required material.  Our classes are guaranteed to cover
  the required material so there is no risk of you losing your permit due t
 o inadequate training. This also ensures that you have been introduced to 
 the legal responsibilities of carrying a firearm for self defense which co
 uld easily save you a lot of trouble and hopefully keep you out of court.\
 n\nIf you need to withdraw\, please give plenty of notice.  Read our REFU
 ND POLICY HERE.\n\nEach student will need to register separately.  Each s
 tudent needs to have their own email address. Please double check your nam
 e as it appears on your driver's license because your certificate will nee
 d to match exactly.  (Include middle name or initial if it is on your DL)
 \n\nBring a friend and get a discount following THESE INSTRUCTIONS.
ATTACH;FMTTYPE=image/jpeg:https://www.nebraskashooters.com/wp-content/uplo
 ads/2019/12/ComeSeeNS1.jpg
CATEGORIES:Everything,Gering,Minnesota,Nebraska Concealed Handgun
 Training,Panhandle,Scottsbluff
LOCATION:Sure Shot Gun Range\,  1346 10th St\, Gering\, Nebraska\, 69341\, 
 United States
GEO:41.82239999999999;-103.65999999999997
X-APPLE-STRUCTURED-LOCATION;VALUE=URI;X-ADDRESS= 1346 10th St\, Gering\, Ne
 braska\, 69341\, United States;X-APPLE-RADIUS=100;X-TITLE=Sure Shot Gun Ra
 nge:geo:41.82239999999999,-103.65999999999997
END:VEVENT
BEGIN:VTIMEZONE
TZID:America/Denver
X-LIC-LOCATION:America/Denver
BEGIN:STANDARD
DTSTART:20201101T010000
TZOFFSETFROM:-0600
TZOFFSETTO:-0700
TZNAME:MST
END:STANDARD
END:VTIMEZONE
END:VCALENDAR