BEGIN:VCALENDAR
VERSION:2.0
PRODID:-//wp-events-plugin.com//7.2.3.1//EN
TZID:America/North_Dakota/Center
X-WR-TIMEZONE:America/North_Dakota/Center
BEGIN:VEVENT
UID:1070@nebraskashooters.com
DTSTART;TZID=America/Denver:20201024T080000
DTEND;TZID=America/Denver:20201024T170000
DTSTAMP:20201029T163836Z
URL:https://www.nebraskashooters.com/events/gering-ccw-10-24-20/
SUMMARY:Gering-CCW-10-24-20
DESCRIPTION:Nebraska Concealed Handgun Training\n\nInstructed by Dustin and
  Renee Thomas.\n\nThis is the course required by the State of Nebraska to 
 satisfy the training requirements to get your Concealed Handgun Permit (CH
 P). After years of refinement our instructors have developed a course that
  is easy for the new shooter to understand while still offering excellent 
 information to the experienced shooters. The Nebraska Conceal Handgun Trai
 ning will meet requirements to get your Nebraska permit. Nebraska’s perm
 it will enable legal concealed carry in 34 states.  Check out the recipro
 city page for more details. This class will also meet the requirements for
  Iowa or Colorado residents to get their concealed carry permit. This is a
  non-NRA course taught by an NRA Certified Instructor in strict accordance
  with a state-approved lesson plan. Feel free to contact Renee Thomas for 
 more information at (308)249-1612.\n\nIt is required that you bring:\n\n 	
  100 rounds of ammo\n 	handgun\n 	dominant-side holster and belt\n 	eye an
 d hearing protection (prescription glasses will be acceptable)\n\n  If yo
 u need to borrow a handgun and holster\, we can provide you with the equip
 ment and you will just need to pay for the ammunition. \n\nYou also have 
 the option of sticking around to get your Minnesota Non-Resident training 
 for an extra $20.  This training is recognized by the State of Minnesota 
 when applying for your Minnesota Carry Permit. This permit will allow you 
 to carry concealed or open when traveling through the state of Minnesota. 
 The Minnesota curriculum requires our Nebraska Concealed Handgun course in
  order to obtain the full course.\n\nGuarantee: As many of you know\, ther
 e are instructors in Nebraska who are offering a quickie course which does
  not cover the required material.  Our classes are guaranteed to cover th
 e required material so there is no risk of you losing your permit due to i
 nadequate training. This also ensures that you have been introduced to the
  legal responsibilities of carrying a firearm for self defense which could
  easily save you a lot of trouble and hopefully keep you out of court.\n\n
 If you need to withdraw\, please give plenty of notice.  Read our REFUND 
 POLICY HERE.\n\nEach student will need to register separately.  Each stud
 ent needs to have their own email address. Please double check your name a
 s it appears on your driver's license because your certificate will need t
 o match exactly.  (Include middle name or initial if it is on your DL)\n\
 nBring a friend and get a discount following THESE INSTRUCTIONS.
ATTACH;FMTTYPE=image/jpeg:https://www.nebraskashooters.com/wp-content/uplo
 ads/2019/12/ComeSeeNS1.jpg
CATEGORIES:Everything,Gering,Minnesota,Nebraska Concealed Handgun
 Training,Panhandle,Scottsbluff
LOCATION:Sure Shot Gun Range\,  1346 10th St\, Gering\, Nebraska\, 69341\, 
 United States
GEO:41.82239999999999;-103.65999999999997
X-APPLE-STRUCTURED-LOCATION;VALUE=URI;X-ADDRESS= 1346 10th St\, Gering\, Ne
 braska\, 69341\, United States;X-APPLE-RADIUS=100;X-TITLE=Sure Shot Gun Ra
 nge:geo:41.82239999999999,-103.65999999999997
END:VEVENT
BEGIN:VTIMEZONE
TZID:America/Denver
X-LIC-LOCATION:America/Denver
BEGIN:DAYLIGHT
DTSTART:20200308T030000
TZOFFSETFROM:-0700
TZOFFSETTO:-0600
TZNAME:MDT
END:DAYLIGHT
END:VTIMEZONE
END:VCALENDAR