BEGIN:VCALENDAR
VERSION:2.0
PRODID:-//wp-events-plugin.com//7.2.3.1//EN
TZID:America/North_Dakota/Center
X-WR-TIMEZONE:America/North_Dakota/Center
BEGIN:VEVENT
UID:1076@nebraskashooters.com
DTSTART;TZID=America/North_Dakota/Center:20200926T080000
DTEND;TZID=America/North_Dakota/Center:20200926T160000
DTSTAMP:20200924T202415Z
URL:https://www.nebraskashooters.com/events/gering-basic-pistol-9-26-20/
SUMMARY:Gering-Basic Pistol 9-26-20
DESCRIPTION:This is the NRA course designed to develop the knowledge skills
  and attitude to safely and effectively handle a handgun.\n\nStudents lear
 n NRA’s rules for safe gun handling\; pistol parts and operation\; ammun
 ition\; shooting fundamentals\; range rules\; shooting from the bench rest
  position\, and two handed standing positions\; cleaning the pistol\; and 
 continued opportunities for skill development.\n\nWe will take the time to
  allow you to learn the proper way to get started with your handgun.  Thi
 s is a great class for new gun owners or for people who will be living in 
 a household with handguns.\n\nNRA's core Basic Pistol Course has six major
  parts. We enhance that core class for civilians who want to live responsi
 bly while protecting themselves and their family inside their home. And we
  adjust according to the circumstances and enrollment in each class. Here'
 s the core:\n1. Pistol Knowledge and Safe Gun Handling\n2. Ammunition Know
 ledge and the Fundamentals of Pistol Shooting\n3. Firing the First Shots\n
 4. Scoring Targets and Selecting and Maintaining your Pistol\n5. Continue
 d Opportunities for Skill Development\n6. The One-Handed Standing Shooting
  Position\nPlease bring 200 rounds of ammo and eye and hearing protection.
 \n\nUpon successful completion\, you will receive an NRA certificate of co
 mpletion for The Basics of Pistol Shooting.\n\nThis course also meets the 
 training requirements for the Colorado Concealed Carry permit.\n\nIf you n
 eed to withdraw\, please give plenty of notice.  Read our REFUND POLICY H
 ERE.\n\nEach student will need to register separately.  Each student need
 s to have their own email address. Please double check your name as it app
 ears on your driver's license because your certificate will need to match 
 exactly.  (Include middle name or initial if it is on your DL)\n\nBring a
  friend and get a discount following THESE INSTRUCTIONS.
CATEGORIES:Basic Pistol,Everything,NRA Student Courses,Panhandle
LOCATION:Sure Shot Gun Range\,  1346 10th St\, Gering\, Nebraska\, 69341\, 
 United States
GEO:41.82239999999999;-103.65999999999997
X-APPLE-STRUCTURED-LOCATION;VALUE=URI;X-ADDRESS= 1346 10th St\, Gering\, Ne
 braska\, 69341\, United States;X-APPLE-RADIUS=100;X-TITLE=Sure Shot Gun Ra
 nge:geo:41.82239999999999,-103.65999999999997
END:VEVENT
BEGIN:VTIMEZONE
TZID:America/North_Dakota/Center
X-LIC-LOCATION:America/North_Dakota/Center
BEGIN:DAYLIGHT
DTSTART:20200308T030000
TZOFFSETFROM:-0600
TZOFFSETTO:-0500
TZNAME:CDT
END:DAYLIGHT
END:VTIMEZONE
END:VCALENDAR