BEGIN:VCALENDAR
VERSION:2.0
PRODID:-//wp-events-plugin.com//7.2.3.1//EN
TZID:America/North_Dakota/Center
X-WR-TIMEZONE:America/North_Dakota/Center
BEGIN:VEVENT
UID:823@nebraskashooters.com
DTSTART;TZID=America/North_Dakota/Center;VALUE=DATE:20200306
DTEND;TZID=America/North_Dakota/Center;VALUE=DATE:20200310
DTSTAMP:20191206T222334Z
URL:https://www.nebraskashooters.com/events/front-sight-firearm-training-i
 nstitute-2020/
SUMMARY:Front Sight Firearm Training Institute
DESCRIPTION:A group of our dedicated instructors will be going through some
  continuing education in a 4 Day Defensive Handgun Course.  We will coord
 inate the flights\, lodging\, transportation\, and meals for those who wan
 t to travel with our group to save some money for everyone.  We typically
  fly in the day before and fly out the day after class.  This is a great 
 opportunity for anyone who wants to get some quality time using their equi
 pment and honing their skills.  Day One is very basic and by day 4 you wi
 ll be shooting two shots on target from concealment at 21' in under 1.5 se
 conds.\n\nFrom Front Sight's Webpage:\nFront Sight's gun training surpasse
 s the levels found through the NRA\, law enforcement and military communit
 ies. Front Sight teaches the most proven\, real-world techniques\, deliver
 ed in the most efficient manner\, by the industry's most select group of f
 irearms trainers. You will receive highly personalized instruction with th
 e world's top gun instructors using positive reinforcement\, with friendly
  constructive correction to build your skill\, knowledge and confidence. O
 ne thing you will never find at Front Sight Resort is any macho\, boot cam
 p mentality or Drill Sergeant attitudes. Founded by Four Weapons Combat Ma
 ster\, Dr. Ignatius Piazza\, Front Sight has grown to become the largest a
 nd most respected firearms training institute in the world. Whether you ju
 st purchased your first firearm and need basic gun training\, or have hand
 led firearms for years and want to train up to the master level\, Front Si
 ght has the curriculum\, facilities and instructors to bring out the most\
 , and best\, in you. As tens of thousands of students each year can attest
 \, Front Sight delivers the absolute best firearms training available anyw
 here.\nFor information on Front Sight go to https://www.frontsight.com/ \
 nA Diamond level membership allows you to take any class you like for the 
 rest of your life for free and we have a few Diamond Membership transfer v
 ouchers available for $350. .  If anyone would like to get your lifetime 
 Diamond membership to this training facility please contact us for more in
 formation.\n\nIf you register for this trip\, we will keep you posted on t
 he costs of the package as we get the best deals we can get.  We typicall
 y stay at the winery in Pahrump where they have double occupancy cabins fo
 r $90 per night\,   Flights are typically around $250 and we can usually
  rent a van for every 5 or 6 people and split the cost evenly.
ATTACH;FMTTYPE=image/jpeg:https://www.nebraskashooters.com/wp-content/uplo
 ads/2018/05/top_rev_logo.jpg
CATEGORIES:Everything,Guest Instructor
LOCATION:Front Sight\, 1 Front Sight Rd\, Pahrump\, NV\, 89061\, United Sta
 tes
X-APPLE-STRUCTURED-LOCATION;VALUE=URI;X-ADDRESS=1 Front Sight Rd\, Pahrump\
 , NV\, 89061\, United States;X-APPLE-RADIUS=100;X-TITLE=Front Sight:geo:0,
 0
END:VEVENT
BEGIN:VTIMEZONE
TZID:America/North_Dakota/Center
X-LIC-LOCATION:America/North_Dakota/Center
BEGIN:STANDARD
DTSTART:20191103T010000
TZOFFSETFROM:-0500
TZOFFSETTO:-0600
TZNAME:CST
END:STANDARD
BEGIN:DAYLIGHT
DTSTART:20200308T030000
TZOFFSETFROM:-0600
TZOFFSETTO:-0500
TZNAME:CDT
END:DAYLIGHT
END:VTIMEZONE
END:VCALENDAR