BEGIN:VCALENDAR
VERSION:2.0
PRODID:-//wp-events-plugin.com//7.2.3.1//EN
TZID:America/North_Dakota/Center
X-WR-TIMEZONE:America/North_Dakota/Center
BEGIN:VEVENT
UID:482@nebraskashooters.com
DTSTART;TZID=America/North_Dakota/Center:20170804T173000
DTEND;TZID=America/North_Dakota/Center:20170804T203000
DTSTAMP:20170705T232904Z
URL:https://www.nebraskashooters.com/events/friday-fun-shoot-7/
SUMMARY:Friday Fun Shoot
DESCRIPTION:\n	Everyone needs to practice and what better way to practice t
 han with some good friends and some of the top instructors around. Not onl
 y will you get a chance to get some trigger time in a fun and safe environ
 ment\, but we also might be able to help you with some of those bad habits
  before they get too engrained.\n\n\n\n	We will have some themed challenge
 s for the night and each fun shoot will end with a top shot challenge for 
 those who enjoy a little competition. &nbsp\;\n\n\n\n	Please try and get t
 here as close to 5:30 as possible on your first visit for a range safety b
 riefing and orientation. &nbsp\;We will set up multiple ranges and we will
  have the Winchester Challenge targets available for those wanting to try 
 and earn your degree in the Winchester program.\n\n\n\n	&nbsp\;There is no
  charge\, but we need to know if you are coming&nbsp\;so we know how many 
 to expect. &nbsp\;Please sign up below. &nbsp\;If you are a past student\,
  you can just sign in and save your&nbsp\;spot.\n\n\n\n	&nbsp\;\n\n
ATTACH;FMTTYPE=image/jpeg:https://www.nebraskashooters.com/wp-content/uplo
 ads/2017/02/Group-Therapy-Export.jpg
CATEGORIES:Everything,Fun Shoot
LOCATION:Nebraska Shooters\, 3200 Gage Rd\, Firth\, Nebraska\, 68358\, Unit
 ed States
GEO:40.524337;-96.675525
X-APPLE-STRUCTURED-LOCATION;VALUE=URI;X-ADDRESS=3200 Gage Rd\, Firth\, Nebr
 aska\, 68358\, United States;X-APPLE-RADIUS=100;X-TITLE=Nebraska Shooters:
 geo:40.524337,-96.675525
END:VEVENT
BEGIN:VTIMEZONE
TZID:America/North_Dakota/Center
X-LIC-LOCATION:America/North_Dakota/Center
BEGIN:DAYLIGHT
DTSTART:20170312T030000
TZOFFSETFROM:-0600
TZOFFSETTO:-0500
TZNAME:CDT
END:DAYLIGHT
END:VTIMEZONE
END:VCALENDAR