BEGIN:VCALENDAR
VERSION:2.0
PRODID:-//wp-events-plugin.com//7.2.3.1//EN
TZID:America/North_Dakota/Center
X-WR-TIMEZONE:America/North_Dakota/Center
BEGIN:VEVENT
UID:779@nebraskashooters.com
DTSTART;TZID=America/North_Dakota/Center:20190621T180000
DTEND;TZID=America/North_Dakota/Center:20190621T210000
DTSTAMP:20190225T211327Z
URL:https://www.nebraskashooters.com/events/friday-fun-shoot-6-21-19/
SUMMARY:Friday Fun Shoot 6-21-19
DESCRIPTION:Everyone needs to practice and what better way to practice than
  with some good friends and some of the top instructors around. Not only w
 ill you get a chance to get some trigger time in a fun and safe environmen
 t\, but we also might be able to help you with some of those bad habits be
 fore they get too engrained.\n\nWe will have some themed challenges for th
 e night and each fun shoot will end with a top shot challenge for those wh
 o enjoy a little competition.\n\nPlease try and get there as close to 5:45
  as possible on your first visit for a range safety briefing and orientati
 on.  We will set up multiple ranges and we will have the Winchester Chall
 enge targets available for those wanting to try and earn your degree in th
 e Winchester program.  We will also have the Texas Star and Dueling trees
  available for some steel ringing fun.\n\nThere is no charge\, but we need
  to know if you are coming so we know how many to expect.  Please sign u
 p below.  If you are a past student\, you can just sign in and save your
  spot.\n\n&nbsp\;
ATTACH;FMTTYPE=image/jpeg:https://www.nebraskashooters.com/wp-content/uplo
 ads/2017/02/Group-Therapy-Export.jpg
CATEGORIES:Everything,Fun Shoot,Southeast
LOCATION:Nebraska Shooters\, 3200 Gage Rd\, Firth\, Nebraska\, 68358\, Unit
 ed States
GEO:40.524337;-96.675525
X-APPLE-STRUCTURED-LOCATION;VALUE=URI;X-ADDRESS=3200 Gage Rd\, Firth\, Nebr
 aska\, 68358\, United States;X-APPLE-RADIUS=100;X-TITLE=Nebraska Shooters:
 geo:40.524337,-96.675525
END:VEVENT
BEGIN:VTIMEZONE
TZID:America/North_Dakota/Center
X-LIC-LOCATION:America/North_Dakota/Center
BEGIN:DAYLIGHT
DTSTART:20190310T030000
TZOFFSETFROM:-0600
TZOFFSETTO:-0500
TZNAME:CDT
END:DAYLIGHT
END:VTIMEZONE
END:VCALENDAR