BEGIN:VCALENDAR
VERSION:2.0
PRODID:-//wp-events-plugin.com//7.2.3.1//EN
TZID:America/North_Dakota/Center
X-WR-TIMEZONE:America/North_Dakota/Center
BEGIN:VEVENT
UID:1082@nebraskashooters.com
DTSTART;TZID=America/North_Dakota/Center:20200908T183000
DTEND;TZID=America/North_Dakota/Center:20200909T220000
DTSTAMP:20200903T214401Z
URL:https://www.nebraskashooters.com/events/firth-ccw-9-8-20/
SUMMARY:Firth-CCW 9-8-20
DESCRIPTION:Nebraska Concealed Handgun Training\nTwo Evening Class\nInstruc
 ted by Will Zimdars\nThis is the course required by the State of Nebraska 
 to satisfy the training requirements to get your Concealed Handgun Permit 
 (CHP). After years of refinement our instructors have developed a course t
 hat is easy for the new shooter to understand while still offering excelle
 nt information to the experienced shooters. The Nebraska Conceal Handgun T
 raining will meet requirements to get your Nebraska permit. Nebraska’s p
 ermit will enable legal concealed carry in 34 states.  Check out the reci
 procity page for more details. This class will also meet the requirements 
 for Iowa or Colorado residents to get their concealed carry permit. This i
 s a non-NRA course taught by an NRA Certified Instructor in strict accorda
 nce with a state-approved lesson plan.\n\nIt is required that you bring:\n
 \n 	100 rounds of ammo\n 	handgun\n 	dominant-side holster and belt\n 	eye
  and hearing protection (prescription glasses are acceptable)\n\n  If you
  need to borrow a handgun and holster\, we can provide you with the equipm
 ent and you will just need to bring ammunition.  Feel free to bring your 
 dinner if you'd like to eat during class. Drinks and snacks will be availa
 ble throughout the class.   Also\, please bring a billed cap and no low 
 cut shirts to catch hot brass.\n\nWe are also offering an optional Minnes
 ota Non-Resident add-on course after class if anyone is interested.  This
  is approximately 1 hour and the cost is $20.\n\nGuarantee: As many of y
 ou know\, there are instructors in Nebraska who are offering a quickie cou
 rse which does not cover the required material.  Our classes are guarante
 ed to cover the required material so there is no risk of you losing your p
 ermit due to inadequate training. This also ensures that you have been int
 roduced to the legal responsibilities of carrying a firearm for self defen
 se which could easily save you a lot of trouble and hopefully keep you out
  of court.\n\nBring a friend and get a discount. For group and military di
 scounts please follow instructions HERE.
ATTACH;FMTTYPE=image/jpeg:https://www.nebraskashooters.com/wp-content/uplo
 ads/2018/07/ComeSeeNS.jpg
CATEGORIES:Everything,Minnesota,Nebraska Concealed Handgun
 Training,Nebraska Shooters Range,Southeast
LOCATION:Nebraska Shooters\, 3200 Gage Rd\, Firth\, Nebraska\, 68358\, Unit
 ed States
GEO:40.524337;-96.675525
X-APPLE-STRUCTURED-LOCATION;VALUE=URI;X-ADDRESS=3200 Gage Rd\, Firth\, Nebr
 aska\, 68358\, United States;X-APPLE-RADIUS=100;X-TITLE=Nebraska Shooters:
 geo:40.524337,-96.675525
END:VEVENT
BEGIN:VTIMEZONE
TZID:America/North_Dakota/Center
X-LIC-LOCATION:America/North_Dakota/Center
BEGIN:DAYLIGHT
DTSTART:20200308T030000
TZOFFSETFROM:-0600
TZOFFSETTO:-0500
TZNAME:CDT
END:DAYLIGHT
END:VTIMEZONE
END:VCALENDAR