BEGIN:VCALENDAR
VERSION:2.0
PRODID:-//wp-events-plugin.com//7.2.3.1//EN
TZID:America/North_Dakota/Center
X-WR-TIMEZONE:America/North_Dakota/Center
BEGIN:VEVENT
UID:1079@nebraskashooters.com
DTSTART;TZID=America/North_Dakota/Center:20200907T080000
DTEND;TZID=America/North_Dakota/Center:20200907T170000
DTSTAMP:20200831T135236Z
URL:https://www.nebraskashooters.com/events/firth-ccw-9-7-20/
SUMMARY:Firth-CCW 9-7-20
DESCRIPTION:Nebraska Concealed Handgun Training\nInstructed by William Zimd
 ars\nThis is the course required by the State of Nebraska to satisfy the t
 raining requirements to get your Concealed Handgun Permit (CHP). After yea
 rs of refinement our instructors have developed a course that is easy for 
 the new shooter to understand while still offering excellent information t
 o the experienced shooters. The Nebraska Conceal Handgun Training will mee
 t requirements to get your Nebraska permit. Nebraska’s permit will enabl
 e legal concealed carry in 34 states.  Check out the reciprocity page for
  more details. This class will also meet the requirements for Iowa or Colo
 rado residents to get their concealed carry permit. This is a non-NRA cour
 se taught by an NRA Certified Instructor in strict accordance with a state
 -approved lesson plan.\n\nIt is required that you bring:\n\n 	 100 rounds 
 of ammo\n 	handgun\n 	dominant-side holster\n 	Belt\n 	eye and hearing pro
 tection. (Prescription glasses are fine)\n 	 sack lunch (there are no res
 taurants nearby)\n\n If you need to borrow a handgun and holster\, we can 
 provide you with the equipment and you will just need to bring the ammunit
 ion.  Drinks and snacks will be available throughout the day.   Also\, p
 lease bring a billed cap and no low cut shirts to catch hot brass.\n\nWe a
 re also offering an optional Minnesota Non-Resident add-on course after c
 lass if anyone is interested.  This is approximately 1 hour and the cos
 t is $20.\n\nGuarantee: As many of you know\, there are instructors in Neb
 raska who are offering a quickie course which does not cover the required 
 material.  Our classes are guaranteed to cover the required material so t
 here is no risk of you losing your permit due to inadequate training. This
  also ensures that you have been introduced to the legal responsibilities 
 of carrying a firearm for self defense which could easily save you a lot o
 f trouble and hopefully keep you out of court.\n\nBring a friend and get a
  discount. For group and military discounts please follow instructions HER
 E.
ATTACH;FMTTYPE=image/jpeg:https://www.nebraskashooters.com/wp-content/uplo
 ads/2018/07/ComeSeeNS.jpg
CATEGORIES:Everything,Minnesota,Nebraska Concealed Handgun
 Training,Nebraska Shooters Range,Southeast
LOCATION:Nebraska Shooters\, 3200 Gage Rd\, Firth\, Nebraska\, 68358\, Unit
 ed States
GEO:40.524337;-96.675525
X-APPLE-STRUCTURED-LOCATION;VALUE=URI;X-ADDRESS=3200 Gage Rd\, Firth\, Nebr
 aska\, 68358\, United States;X-APPLE-RADIUS=100;X-TITLE=Nebraska Shooters:
 geo:40.524337,-96.675525
END:VEVENT
BEGIN:VTIMEZONE
TZID:America/North_Dakota/Center
X-LIC-LOCATION:America/North_Dakota/Center
BEGIN:DAYLIGHT
DTSTART:20200308T030000
TZOFFSETFROM:-0600
TZOFFSETTO:-0500
TZNAME:CDT
END:DAYLIGHT
END:VTIMEZONE
END:VCALENDAR