BEGIN:VCALENDAR
VERSION:2.0
PRODID:-//wp-events-plugin.com//7.2.3.1//EN
TZID:America/North_Dakota/Center
X-WR-TIMEZONE:America/North_Dakota/Center
BEGIN:VEVENT
UID:1958@nebraskashooters.com
DTSTART;TZID=America/North_Dakota/Center:20260314T080000
DTEND;TZID=America/North_Dakota/Center:20260314T170000
DTSTAMP:20251216T012634Z
URL:https://www.nebraskashooters.com/events/firth-ccw-3-14-26/
SUMMARY:Firth-CCW 3-14-26
DESCRIPTION:Nebraska Concealed Handgun Training\nInstructed by Justin Grusi
 ng\nNow that Nebraska has joined the ranks of states who offer Constitutio
 nal Carry\, we are offering a flexible program to allow those who want the
  education to get what they want.  We now offer an al-la-carte menu so yo
 u can get exactly what you want.\n\nPart A covers safe handling of handgun
 s and ammunition\, shooting fundamentals\, holsters\, safes\, maintenance\
 , and the shooting drills required by the Nebraska State Patrol to obtain 
 your CHP.  This package 4-5 hours and the cost is $75 per person.\n\nIt i
 s required that you bring for the Part A\n\n 	 100 rounds of ammo (if you 
 are borrowing a gun bring 9mm or .22LR ammunition)\n 	Handgun (unless rese
 rving loaner gun)\n 	Dominant-side holster and belt\n 	Eye and hearing pro
 tection (Prescription glasses are acceptable)\n 	Cap with bill in front re
 commended\n 	No low cut shirts or open-toe shoes to catch hot brass\n 	Sac
 k lunch if attending Part B\n\nPart B covers avoiding criminal attacks and
  defusing violent confrontations\, local\, state\, and federal laws pertai
 ning to ownership\, possession\, transportation\, and use of firearms. Thi
 s option includes the written test required by the Nebraska State Patrol a
 nd begins at 1:00 PM.  The cost is $75 per person.\n\nA+B will complete e
 verything required by the State of Nebraska to satisfy the training requir
 ements to get your Concealed Handgun Permit (CHP).  This is approximately
  8 hours for only $125.\n\nMinnesota Non-Resident Add-on fulfills the requ
 irement to get a non-resident carry permit in Minnesota and requires you t
 o complete Part A as well.  There is an additional 30 minutes of discussi
 on about laws specific to Minnesota which will be done at 7:30 AM before t
 he Part A begins. The cost is only $20 plus the Part A if you have not tak
 en your CHP class with Nebraska Shooters. Keep in mind that Minnesota curr
 ently recognizes the Nebraska Concealed Carry permit\, but you are welcome
  to add this training if you still need it.\n\nOur course is easy for the 
 new shooter to understand while offering excellent information to the expe
 rienced shooters as well. The Nebraska Conceal Handgun Training will meet 
 requirements to get your Nebraska permit.   Check out the reciprocity pa
 ge for details on reciprocity. This class will also meet the requirements 
 for Iowa or Colorado residents to get their concealed carry permit. This i
 s a non-NRA course taught by an NRA Certified Instructor in strict accorda
 nce with a state-approved lesson plan.\n\nGuarantee: As many of you know\,
  there are instructors in Nebraska who are offering a quickie course which
  does not cover the required material.  Our classes are guaranteed to cov
 er the required material so there is no risk of you losing your permit due
  to inadequate training. This also ensures that you have been introduced t
 o the legal responsibilities of carrying a firearm for self defense which 
 could easily save you a lot of trouble and hopefully keep you out of court
 .\n\nEach student will need to register separately.  Each student needs t
 o have their own email address. Please double check your name as it appear
 s on your driver's license because your certificate will need to match exa
 ctly.  (Include middle name or initial if it is on your DL)\n\n&nbsp\;
ATTACH;FMTTYPE=image/jpeg:https://www.nebraskashooters.com/wp-content/uplo
 ads/2023/07/Puzzle-Pieces-1.png
CATEGORIES:Everything,Minnesota,Nebraska Concealed Handgun
 Training,Nebraska Shooters Range,Southeast
LOCATION:Nebraska Shooters\, 3200 Gage Rd\, Firth\, Nebraska\, 68358\, Unit
 ed States
GEO:40.524337;-96.675525
X-APPLE-STRUCTURED-LOCATION;VALUE=URI;X-ADDRESS=3200 Gage Rd\, Firth\, Nebr
 aska\, 68358\, United States;X-APPLE-RADIUS=100;X-TITLE=Nebraska Shooters:
 geo:40.524337,-96.675525
END:VEVENT
BEGIN:VTIMEZONE
TZID:America/North_Dakota/Center
X-LIC-LOCATION:America/North_Dakota/Center
BEGIN:DAYLIGHT
DTSTART:20260308T030000
TZOFFSETFROM:-0600
TZOFFSETTO:-0500
TZNAME:CDT
END:DAYLIGHT
END:VTIMEZONE
END:VCALENDAR