BEGIN:VCALENDAR
VERSION:2.0
PRODID:-//wp-events-plugin.com//7.2.3.1//EN
TZID:America/North_Dakota/Center
X-WR-TIMEZONE:America/North_Dakota/Center
BEGIN:VEVENT
UID:1111@nebraskashooters.com
DTSTART;TZID=America/North_Dakota/Center:20201219T080000
DTEND;TZID=America/North_Dakota/Center:20201219T170000
DTSTAMP:20201210T185340Z
URL:https://www.nebraskashooters.com/events/firth-ccw-12-19-20/
SUMMARY:Firth-CCW 12-19-20
DESCRIPTION:Nebraska Concealed Handgun Training\nInstructed by Justin Grusi
 ng\nThis is the course required by the State of Nebraska to satisfy the tr
 aining requirements to get your Concealed Handgun Permit (CHP). After year
 s of refinement our instructors have developed a course that is easy for t
 he new shooter to understand while still offering excellent information to
  the experienced shooters. The Nebraska Conceal Handgun Training will meet
  requirements to get your Nebraska permit. Nebraska’s permit will enable
  legal concealed carry in 34 states.  Check out the reciprocity page for 
 more details. This class will also meet the requirements for Iowa or Color
 ado residents to get their concealed carry permit. This is a non-NRA cours
 e taught by an NRA Certified Instructor in strict accordance with a state-
 approved lesson plan.\n\nIt is required that you bring\n\n 	 100 rounds of
  ammo\n 	handgun\n 	dominant-side holster and belt\n 	eye and hearing prot
 ection (Prescription glasses are acceptable)\n 	sack lunch\n\nIf you need 
 to borrow a handgun and holster\, please let us know before class and brin
 g ammo.  Drinks and snacks will be available throughout the day.   Also\
 , please bring a billed cap and no low cut shirts to catch hot brass.\n\nW
 e are also offering an optional Minnesota Non-Resident add-on course afte
 r class if anyone is interested.  This is approximately 1 hour and the 
 cost is $20.\n\nGuarantee: As many of you know\, there are instructors in 
 Nebraska who are offering a quickie course which does not cover the requir
 ed material.  Our classes are guaranteed to cover the required material s
 o there is no risk of you losing your permit due to inadequate training. T
 his also ensures that you have been introduced to the legal responsibiliti
 es of carrying a firearm for self defense which could easily save you a lo
 t of trouble and hopefully keep you out of court.\n\nEach student will nee
 d to register separately.  Each student needs to have their own email add
 ress. Please double check your name as it appears on your driver's license
  because your certificate will need to match exactly.  (Include middle na
 me or initial if it is on your DL)\n\nBring a friend and get a discount. F
 or group and military discounts please follow instructions HERE.
ATTACH;FMTTYPE=image/jpeg:https://www.nebraskashooters.com/wp-content/uplo
 ads/2018/07/ComeSeeNS.jpg
CATEGORIES:Everything,Minnesota,Nebraska Concealed Handgun
 Training,Nebraska Shooters Range,Southeast
LOCATION:Nebraska Shooters\, 3200 Gage Rd\, Firth\, Nebraska\, 68358\, Unit
 ed States
GEO:40.524337;-96.675525
X-APPLE-STRUCTURED-LOCATION;VALUE=URI;X-ADDRESS=3200 Gage Rd\, Firth\, Nebr
 aska\, 68358\, United States;X-APPLE-RADIUS=100;X-TITLE=Nebraska Shooters:
 geo:40.524337,-96.675525
END:VEVENT
BEGIN:VTIMEZONE
TZID:America/North_Dakota/Center
X-LIC-LOCATION:America/North_Dakota/Center
BEGIN:STANDARD
DTSTART:20201101T010000
TZOFFSETFROM:-0500
TZOFFSETTO:-0600
TZNAME:CST
END:STANDARD
END:VTIMEZONE
END:VCALENDAR