BEGIN:VCALENDAR
VERSION:2.0
PRODID:-//wp-events-plugin.com//7.2.3.1//EN
TZID:America/North_Dakota/Center
X-WR-TIMEZONE:America/North_Dakota/Center
BEGIN:VEVENT
UID:1177@nebraskashooters.com
DTSTART;TZID=America/North_Dakota/Center:20211218T080000
DTEND;TZID=America/North_Dakota/Center:20211218T170000
DTSTAMP:20211216T214736Z
URL:https://www.nebraskashooters.com/events/firth-ccw-12-18-21/
SUMMARY:Firth-CCW 12-18-21
DESCRIPTION:Nebraska Concealed Handgun Training\nInstructed by Justin Grusi
 ng\nThis is the course required by the State of Nebraska to satisfy the tr
 aining requirements to get your Concealed Handgun Permit (CHP). After year
 s of refinement our instructors have developed a course that is easy for t
 he new shooter to understand while still offering excellent information to
  the experienced shooters. The Nebraska Conceal Handgun Training will meet
  requirements to get your Nebraska permit. Nebraska’s permit will enable
  legal concealed carry in 34 states.  Check out the reciprocity page for 
 more details. This class will also meet the requirements for Iowa or Color
 ado residents to get their concealed carry permit. This is a non-NRA cours
 e taught by an NRA Certified Instructor in strict accordance with a state-
 approved lesson plan.\n\nIt is required that you bring\n\n 	 100 rounds of
  ammo (unless buying ammo at checkout)\n 	handgun (unless reserving loaner
  gun)\n 	dominant-side holster and belt\n 	eye and hearing protection (Pre
 scription glasses are acceptable)\n 	sack lunch\n\nIf you need to borrow a
  handgun and holster\, please let us know before class and bring ammo unle
 ss you purchase ammo below.  Drinks and snacks will be available througho
 ut the day.   Also\, please bring a cap with a front bill and no low cut 
 shirts to catch hot brass.\n\nIf the weather is nasty we will shoot in the
  heated shooting area.\n\nWe are also offering an optional Minnesota Non-R
 esident add-on course after class if anyone is interested.  This is appro
 ximately 1 hour and the cost is $20.\n\nGuarantee: As many of you know\, t
 here are instructors in Nebraska who are offering a quickie course which d
 oes not cover the required material.  Our classes are guaranteed to cover
  the required material so there is no risk of you losing your permit due t
 o inadequate training. This also ensures that you have been introduced to 
 the legal responsibilities of carrying a firearm for self defense which co
 uld easily save you a lot of trouble and hopefully keep you out of court.\
 n\nEach student will need to register separately.  Each student needs to 
 have their own email address. Please double check your name as it appears 
 on your driver's license because your certificate will need to match exact
 ly.  (Include middle name or initial if it is on your DL)\n\nWe have been
  experiencing some issues with the registration system this week so if you
  still want in this class feel free to send your name as it appears on you
 r driver's license and DL# to justin@nebraskashooters.com and we will get 
 you in the class.  Sorry for any inconvenience.
ATTACH;FMTTYPE=image/jpeg:https://www.nebraskashooters.com/wp-content/uplo
 ads/2018/07/ComeSeeNS.jpg
CATEGORIES:Everything,Minnesota,Nebraska Concealed Handgun
 Training,Nebraska Shooters Range,Southeast
LOCATION:Nebraska Shooters\, 3200 Gage Rd\, Firth\, Nebraska\, 68358\, Unit
 ed States
GEO:40.524337;-96.675525
X-APPLE-STRUCTURED-LOCATION;VALUE=URI;X-ADDRESS=3200 Gage Rd\, Firth\, Nebr
 aska\, 68358\, United States;X-APPLE-RADIUS=100;X-TITLE=Nebraska Shooters:
 geo:40.524337,-96.675525
END:VEVENT
BEGIN:VTIMEZONE
TZID:America/North_Dakota/Center
X-LIC-LOCATION:America/North_Dakota/Center
BEGIN:STANDARD
DTSTART:20211107T010000
TZOFFSETFROM:-0500
TZOFFSETTO:-0600
TZNAME:CST
END:STANDARD
END:VTIMEZONE
END:VCALENDAR