BEGIN:VCALENDAR
VERSION:2.0
PRODID:-//wp-events-plugin.com//7.2.3.1//EN
TZID:America/North_Dakota/Center
X-WR-TIMEZONE:America/North_Dakota/Center
BEGIN:VEVENT
UID:1108@nebraskashooters.com
DTSTART;TZID=America/North_Dakota/Center:20201114T080000
DTEND;TZID=America/North_Dakota/Center:20201114T170000
DTSTAMP:20201003T021653Z
URL:https://www.nebraskashooters.com/events/firth-ccw-11-14-20/
SUMMARY:Firth-CCW 11-14-20
DESCRIPTION:Nebraska Concealed Handgun Training\nInstructed by Terry Lane F
 itzgerald\nThis is the course required by the State of Nebraska to satisfy
  the training requirements to get your Concealed Handgun Permit (CHP). Aft
 er years of refinement our instructors have developed a course that is eas
 y for the new shooter to understand while still offering excellent informa
 tion to the experienced shooters. The Nebraska Conceal Handgun Training wi
 ll meet requirements to get your Nebraska permit. Nebraska’s permit will
  enable legal concealed carry in 34 states.  Check out the reciprocity pa
 ge for more details. This class will also meet the requirements for Iowa o
 r Colorado residents to get their concealed carry permit. This is a non-NR
 A course taught by NRA Certified Instructors in strict accordance with a s
 tate-approved lesson plan.\n\nIt is required that you bring \n\n 	100 roun
 ds of ammo\n 	handgun\n 	dominant-side holster\n 	Eye and Ear protection (
 prescription glasses are acceptable)\n 	Sack Lunch - There are no restaura
 nts nearby\n 	If you need to borrow a handgun and holster\, we can provide
  you with the equipment and you will just need to provide the ammunition (
 9mm or .22).  Drinks and snacks will be available throughout the day.   
 Also\, please bring a billed cap and no low cut shirts to catch hot brass.
 \n\nWe are also offering an optional Minnesota Non-Resident add-on course 
 after class if anyone is interested.  This is approximately 1 hour and th
 e cost is $20.  You will need to submit your application in person at any
  sheriff's office in Minnesota within 1 year of your training.\n\nGuarante
 e: As many of you know\, there are instructors in Nebraska who are offerin
 g a quickie course which does not cover the required material.  Our class
 es are guaranteed to cover the required material so there is no risk of yo
 u losing your permit due to inadequate training. This also ensures that yo
 u have been introduced to the legal responsibilities of carrying a firearm
  for self defense which could easily save you a lot of trouble and hopeful
 ly keep you out of court.\n\nIf you need to withdraw\, please give plenty 
 of notice.  Read our REFUND POLICY HERE.\n\nEach student will need to reg
 ister separately.  Each student needs to have their own email address. Pl
 ease double check your name as it appears on your driver's license because
  your certificate will need to match exactly.  (Include middle name or in
 itial if it is on your DL)\n\nBring a friend and get a discount following 
 THESE INSTRUCTIONS.
ATTACH;FMTTYPE=image/jpeg:https://www.nebraskashooters.com/wp-content/uplo
 ads/2018/07/ComeSeeNS.jpg
CATEGORIES:Everything,Minnesota,Nebraska Concealed Handgun
 Training,Nebraska Shooters Range,Southeast
LOCATION:Nebraska Shooters\, 3200 Gage Rd\, Firth\, Nebraska\, 68358\, Unit
 ed States
GEO:40.524337;-96.675525
X-APPLE-STRUCTURED-LOCATION;VALUE=URI;X-ADDRESS=3200 Gage Rd\, Firth\, Nebr
 aska\, 68358\, United States;X-APPLE-RADIUS=100;X-TITLE=Nebraska Shooters:
 geo:40.524337,-96.675525
END:VEVENT
BEGIN:VTIMEZONE
TZID:America/North_Dakota/Center
X-LIC-LOCATION:America/North_Dakota/Center
BEGIN:STANDARD
DTSTART:20201101T010000
TZOFFSETFROM:-0500
TZOFFSETTO:-0600
TZNAME:CST
END:STANDARD
END:VTIMEZONE
END:VCALENDAR