BEGIN:VCALENDAR
VERSION:2.0
PRODID:-//wp-events-plugin.com//7.2.3.1//EN
TZID:America/North_Dakota/Center
X-WR-TIMEZONE:America/North_Dakota/Center
BEGIN:VEVENT
UID:1110@nebraskashooters.com
DTSTART;TZID=America/North_Dakota/Center:20201111T080000
DTEND;TZID=America/North_Dakota/Center:20201111T170000
DTSTAMP:20201014T132644Z
URL:https://www.nebraskashooters.com/events/firth-ccw-11-11-20/
SUMMARY:Firth-CCW 11-11-20
DESCRIPTION:Nebraska Concealed Handgun Training\nVETERANS' DAY SPECIAL\nIns
 tructor Dan Higgins\nThis is the course required by the State of Nebraska 
 to satisfy the training requirements to get your Concealed Handgun Permit 
 (CHP). After years of refinement our instructors have developed a course t
 hat is easy for the new shooter to understand while still offering excelle
 nt information to the experienced shooters. The Nebraska Conceal Handgun T
 raining will meet requirements to get your Nebraska permit. Nebraska’s p
 ermit will enable legal concealed carry in 34 states.  Check out the reci
 procity page for more details. This class will also meet the requirements 
 for Iowa or Colorado residents to get their concealed carry permit. This i
 s a non-NRA course taught by an NRA Certified Instructor in strict accorda
 nce with a state-approved lesson plan.\n\nIt is required that you bring:\n
 \n 	 100 rounds of ammo\n 	handgun\n 	dominant-side holster and belt\n 	ey
 e and hearing protection\n 	sack lunch since there are no restaurants near
 by\n\n If you need to borrow a handgun and holster\, we can provide you wi
 th the equipment and you will just need to bring the ammunition.  Drinks 
 and snacks will be available throughout the day.   Also\, please bring a 
 billed cap and no low cut shirts to catch hot brass.\n\nWe are also offeri
 ng an optional Minnesota Non-Resident add-on course after class if anyone
  is interested.  This is approximately 1 hour and the cost is $20.\n\nG
 uarantee: As many of you know\, there are instructors in Nebraska who are 
 offering a quickie course which does not cover the required material.  Ou
 r classes are guaranteed to cover the required material so there is no ris
 k of you losing your permit due to inadequate training. This also ensures 
 that you have been introduced to the legal responsibilities of carrying a 
 firearm for self defense which could easily save you a lot of trouble and 
 hopefully keep you out of court.\n\nIf you need to withdraw\, please give 
 plenty of notice.  Read our REFUND POLICY HERE.\n\nEach student will need
  to register separately.  Each student needs to have their own email addr
 ess. Please double check your name as it appears on your driver's license 
 because your certificate will need to match exactly.  (Include middle nam
 e or initial if it is on your DL)\n\nBring a friend and get a discount fol
 lowing THESE INSTRUCTIONS.
ATTACH;FMTTYPE=image/jpeg:https://www.nebraskashooters.com/wp-content/uplo
 ads/2018/07/ComeSeeNS.jpg
CATEGORIES:Everything,Minnesota,Nebraska Concealed Handgun
 Training,Nebraska Shooters Range,Southeast
LOCATION:Nebraska Shooters\, 3200 Gage Rd\, Firth\, Nebraska\, 68358\, Unit
 ed States
GEO:40.524337;-96.675525
X-APPLE-STRUCTURED-LOCATION;VALUE=URI;X-ADDRESS=3200 Gage Rd\, Firth\, Nebr
 aska\, 68358\, United States;X-APPLE-RADIUS=100;X-TITLE=Nebraska Shooters:
 geo:40.524337,-96.675525
END:VEVENT
BEGIN:VTIMEZONE
TZID:America/North_Dakota/Center
X-LIC-LOCATION:America/North_Dakota/Center
BEGIN:STANDARD
DTSTART:20201101T010000
TZOFFSETFROM:-0500
TZOFFSETTO:-0600
TZNAME:CST
END:STANDARD
END:VTIMEZONE
END:VCALENDAR