BEGIN:VCALENDAR
VERSION:2.0
PRODID:-//wp-events-plugin.com//7.2.3.1//EN
TZID:America/North_Dakota/Center
X-WR-TIMEZONE:America/North_Dakota/Center
BEGIN:VEVENT
UID:1083@nebraskashooters.com
DTSTART;TZID=America/North_Dakota/Center:20201031T080000
DTEND;TZID=America/North_Dakota/Center:20201031T170000
DTSTAMP:20201028T123839Z
URL:https://www.nebraskashooters.com/events/firth-ccw-10-31-20/
SUMMARY:Firth-CCW 10-31-20
DESCRIPTION:Nebraska Concealed Handgun Training\nInstructed by Justin Grusi
 ng and David Moll\nThis is the course required by the State of Nebraska to
  satisfy the training requirements to get your Concealed Handgun Permit (C
 HP). After years of refinement our instructors have developed a course tha
 t is easy for the new shooter to understand while still offering excellent
  information to the experienced shooters. The Nebraska Conceal Handgun Tra
 ining will meet requirements to get your Nebraska permit. Nebraska’s per
 mit will enable legal concealed carry in 34 states.  Check out the recipr
 ocity page for more details. This class will also meet the requirements fo
 r Iowa or Colorado residents to get their concealed carry permit. This is 
 a non-NRA course taught by an NRA Certified Instructor in strict accordanc
 e with a state-approved lesson plan.\n\nIt is required that you bring:\n\n
  	 100 rounds of ammo\n 	handgun\n 	dominant-side holster and belt\n 	eye 
 and hearing protection\n 	sack lunch since there are no restaurants nearby
 \n\n If you need to borrow a handgun and holster\, we can provide you with
  the equipment and you will just need to bring the ammunition.  You will 
 also need . Drinks and snacks will be available throughout the day.   Als
 o\, please bring a billed cap and no low cut shirts to catch hot brass.\n\
 nWe are also offering an optional Minnesota Non-Resident add-on course af
 ter class if anyone is interested.  This is approximately 1 hour and th
 e cost is $20.\n\nGuarantee: As many of you know\, there are instructors i
 n Nebraska who are offering a quickie course which does not cover the requ
 ired material.  Our classes are guaranteed to cover the required material
  so there is no risk of you losing your permit due to inadequate training.
  This also ensures that you have been introduced to the legal responsibili
 ties of carrying a firearm for self defense which could easily save you a 
 lot of trouble and hopefully keep you out of court.\n\nIf you need to with
 draw\, please give plenty of notice.  Read our REFUND POLICY HERE.\n\nEac
 h student will need to register separately.  Each student needs to have t
 heir own email address. Please double check your name as it appears on you
 r driver's license because your certificate will need to match exactly.  
 (Include middle name or initial if it is on your DL)\n\nBring a friend and
  get a discount following THESE INSTRUCTIONS.
ATTACH;FMTTYPE=image/jpeg:https://www.nebraskashooters.com/wp-content/uplo
 ads/2018/07/ComeSeeNS.jpg
CATEGORIES:Everything,Minnesota,Nebraska Concealed Handgun
 Training,Nebraska Shooters Range,Southeast
LOCATION:Nebraska Shooters\, 3200 Gage Rd\, Firth\, Nebraska\, 68358\, Unit
 ed States
GEO:40.524337;-96.675525
X-APPLE-STRUCTURED-LOCATION;VALUE=URI;X-ADDRESS=3200 Gage Rd\, Firth\, Nebr
 aska\, 68358\, United States;X-APPLE-RADIUS=100;X-TITLE=Nebraska Shooters:
 geo:40.524337,-96.675525
END:VEVENT
BEGIN:VTIMEZONE
TZID:America/North_Dakota/Center
X-LIC-LOCATION:America/North_Dakota/Center
BEGIN:DAYLIGHT
DTSTART:20200308T030000
TZOFFSETFROM:-0600
TZOFFSETTO:-0500
TZNAME:CDT
END:DAYLIGHT
END:VTIMEZONE
END:VCALENDAR