BEGIN:VCALENDAR
VERSION:2.0
PRODID:-//wp-events-plugin.com//7.2.3.1//EN
TZID:America/North_Dakota/Center
X-WR-TIMEZONE:America/North_Dakota/Center
BEGIN:VEVENT
UID:1096@nebraskashooters.com
DTSTART;TZID=America/North_Dakota/Center:20201018T080000
DTEND;TZID=America/North_Dakota/Center:20201018T170000
DTSTAMP:20200917T133828Z
URL:https://www.nebraskashooters.com/events/firth-ccw-10-18-20/
SUMMARY:Firth-CCW 10-18-20
DESCRIPTION:Nebraska Concealed Handgun Training\nInstructor Dan Higgins\nTh
 is is the course required by the State of Nebraska to satisfy the training
  requirements to get your Concealed Handgun Permit (CHP). After years of r
 efinement our instructors have developed a course that is easy for the new
  shooter to understand while still offering excellent information to the e
 xperienced shooters. The Nebraska Conceal Handgun Training will meet requi
 rements to get your Nebraska permit. Nebraska’s permit will enable legal
  concealed carry in 34 states.  Check out the reciprocity page for more d
 etails. This class will also meet the requirements for Iowa or Colorado re
 sidents to get their concealed carry permit. This is a non-NRA course taug
 ht by an NRA Certified Instructor in strict accordance with a state-approv
 ed lesson plan.\n\nIt is required that you bring:\n\n 	 100 rounds of ammo
 \n 	handgun\n 	dominant-side holster and belt\n 	eye and hearing protectio
 n\n 	sack lunch since there are no restaurants nearby\n\n If you need to b
 orrow a handgun and holster\, we can provide you with the equipment and yo
 u will just need to bring the ammunition.  Drinks and snacks will be avai
 lable throughout the day.   Also\, please bring a billed cap and no low c
 ut shirts to catch hot brass.\n\nWe are also offering an optional Minneso
 ta Non-Resident add-on course after class if anyone is interested.  This 
 is approximately 1 hour and the cost is $20.\n\nGuarantee: As many of yo
 u know\, there are instructors in Nebraska who are offering a quickie cour
 se which does not cover the required material.  Our classes are guarantee
 d to cover the required material so there is no risk of you losing your pe
 rmit due to inadequate training. This also ensures that you have been intr
 oduced to the legal responsibilities of carrying a firearm for self defens
 e which could easily save you a lot of trouble and hopefully keep you out 
 of court.\n\nIf you need to withdraw\, please give plenty of notice.  Rea
 d our REFUND POLICY HERE.\n\nEach student will need to register separately
 .  Each student needs to have their own email address. Please double chec
 k your name as it appears on your driver's license because your certificat
 e will need to match exactly.  (Include middle name or initial if it is o
 n your DL)\n\nBring a friend and get a discount following THESE INSTRUCTIO
 NS.
ATTACH;FMTTYPE=image/jpeg:https://www.nebraskashooters.com/wp-content/uplo
 ads/2018/07/ComeSeeNS.jpg
CATEGORIES:Everything,Minnesota,Nebraska Concealed Handgun
 Training,Nebraska Shooters Range,Southeast
LOCATION:Nebraska Shooters\, 3200 Gage Rd\, Firth\, Nebraska\, 68358\, Unit
 ed States
GEO:40.524337;-96.675525
X-APPLE-STRUCTURED-LOCATION;VALUE=URI;X-ADDRESS=3200 Gage Rd\, Firth\, Nebr
 aska\, 68358\, United States;X-APPLE-RADIUS=100;X-TITLE=Nebraska Shooters:
 geo:40.524337,-96.675525
END:VEVENT
BEGIN:VTIMEZONE
TZID:America/North_Dakota/Center
X-LIC-LOCATION:America/North_Dakota/Center
BEGIN:DAYLIGHT
DTSTART:20200308T030000
TZOFFSETFROM:-0600
TZOFFSETTO:-0500
TZNAME:CDT
END:DAYLIGHT
END:VTIMEZONE
END:VCALENDAR