BEGIN:VCALENDAR
VERSION:2.0
PRODID:-//wp-events-plugin.com//7.2.3.1//EN
TZID:America/North_Dakota/Center
X-WR-TIMEZONE:America/North_Dakota/Center
BEGIN:VEVENT
UID:1974@nebraskashooters.com
DTSTART;TZID=America/North_Dakota/Center:20260221T090000
DTEND;TZID=America/North_Dakota/Center:20260221T120000
DTSTAMP:20251218T165213Z
URL:https://www.nebraskashooters.com/events/first-shots-intro-to-handguns-
 scc/
SUMMARY:First Shots® Intro to handguns SCC
DESCRIPTION:First Shots® Intro to Handguns\n\nThis is a great opportunity 
 to get familiar with handgun safety and shooting fundamentals with the gui
 dance of a professional instructor.  Nebraska Shooters is working with th
 e National Shooting Sports Foundation Southeast Community College to provi
 de this unique opportunity to new shooters.  Quality instruction provided
  for a 3 hour session with guns and ammo provided.\n\nHere's what you will
  learn:\n\n 	Firearm Safety\n 	Firearm parts and operation\n 	The fundamen
 tals of shooting\n 	Safe Storage of firearms\n\nHere's what you need to do
 :\n\n 	Register through the SCC website at https://www.southeast.edu/desti
 ny-one/course-detail.php?id=3735677\n 	Pay equipment fee below\n 	Mark it 
 on you calendar\n 	Show up at the designated time\n\nHere's what you need 
 to bring:\n\n 	An open mind\n 	A good attitude!\n 	$20 for materials\n\nWe
  look forward to working with you and getting you started in the exciting 
 world of handgun shooting!\n\nThis course is being offered through Southea
 st Community College and registration needs to be done through their site 
 at https://www.southeast.edu/destiny-one/course-detail.php?id=3735677\n\nS
 CC class fee is $49 which will be paid directly to SCC.\n\nThere is a $20 
 equipment fee which is paid to Nebraska Shooters.  You can do that in the
  form below or pay on the day of class.\n\n&nbsp\;\n\n&nbsp\;\n\n&nbsp\;\n
 \n&nbsp\;\n\n&nbsp\;\n\n&nbsp\;
ATTACH;FMTTYPE=image/jpeg:https://www.nebraskashooters.com/wp-content/uplo
 ads/2021/04/FirstShots_FB_Handgun.jpg
CATEGORIES:Basic Pistol,Everything,First Shots,Fun Shoot
LOCATION:Nebraska Shooters\, 3200 Gage Rd\, Firth\, Nebraska\, 68358\, Unit
 ed States
GEO:40.524337;-96.675525
X-APPLE-STRUCTURED-LOCATION;VALUE=URI;X-ADDRESS=3200 Gage Rd\, Firth\, Nebr
 aska\, 68358\, United States;X-APPLE-RADIUS=100;X-TITLE=Nebraska Shooters:
 geo:40.524337,-96.675525
END:VEVENT
BEGIN:VTIMEZONE
TZID:America/North_Dakota/Center
X-LIC-LOCATION:America/North_Dakota/Center
BEGIN:STANDARD
DTSTART:20251102T010000
TZOFFSETFROM:-0500
TZOFFSETTO:-0600
TZNAME:CST
END:STANDARD
END:VTIMEZONE
END:VCALENDAR