BEGIN:VCALENDAR
VERSION:2.0
PRODID:-//wp-events-plugin.com//7.2.3.1//EN
TZID:America/North_Dakota/Center
X-WR-TIMEZONE:America/North_Dakota/Center
BEGIN:VEVENT
UID:1999@nebraskashooters.com
DTSTART;TZID=America/North_Dakota/Center:20261017T090000
DTEND;TZID=America/North_Dakota/Center:20261017T120000
DTSTAMP:20260311T210955Z
URL:https://www.nebraskashooters.com/events/first-shots-4-27-24-2/
SUMMARY:First Shots® 10-17-26
DESCRIPTION:First Shots® Intro to Handguns\n\nThis is a great opportunity 
 to get familiar with handgun safety and shooting fundamentals with the gui
 dance of a professional instructor.  Nebraska Shooters is working with th
 e National Shooting Sports Foundation and Highland Lodge to provide this u
 nique opportunity to new shooters.  Quality instruction provided for only
  $40 for a 3 hour session with guns and ammo provided.  After the trainin
 g\, lunch will be provided followed by a balloon shoot competition with a 
 special category for new shooters.\n\nHere's what you need to do:\n\n 	Reg
 ister below\n 	Mark it on you calendar\n 	Show up at the designated time\n
 \nHere's what you need to bring:\n\n 	An open mind\n 	A good attitude!\n\n
 We look forward to working with you and getting you started in the excitin
 g world of handgun shooting!\n\nAll proceeds from this event will be donat
 ed to the Highland Lodge in Cortland.\n\n&nbsp\;\n\n&nbsp\;\n\n&nbsp\;
ATTACH;FMTTYPE=image/jpeg:https://www.nebraskashooters.com/wp-content/uplo
 ads/2021/04/FirstShots_FB_Handgun.jpg
CATEGORIES:Basic Pistol,Everything,First Shots,Fun Shoot
LOCATION:Nebraska Shooters\, 3200 Gage Rd\, Firth\, Nebraska\, 68358\, Unit
 ed States
GEO:40.524337;-96.675525
X-APPLE-STRUCTURED-LOCATION;VALUE=URI;X-ADDRESS=3200 Gage Rd\, Firth\, Nebr
 aska\, 68358\, United States;X-APPLE-RADIUS=100;X-TITLE=Nebraska Shooters:
 geo:40.524337,-96.675525
END:VEVENT
BEGIN:VTIMEZONE
TZID:America/North_Dakota/Center
X-LIC-LOCATION:America/North_Dakota/Center
BEGIN:DAYLIGHT
DTSTART:20260308T030000
TZOFFSETFROM:-0600
TZOFFSETTO:-0500
TZNAME:CDT
END:DAYLIGHT
END:VTIMEZONE
END:VCALENDAR