BEGIN:VCALENDAR
VERSION:2.0
PRODID:-//wp-events-plugin.com//7.2.3.1//EN
TZID:America/North_Dakota/Center
X-WR-TIMEZONE:America/North_Dakota/Center
BEGIN:VEVENT
UID:761@nebraskashooters.com
DTSTART;TZID=America/North_Dakota/Center:20190704T090000
DTEND;TZID=America/North_Dakota/Center:20190704T120000
DTSTAMP:20190624T180607Z
URL:https://www.nebraskashooters.com/events/first-aid-for-gun-shot-wounds/
SUMMARY:First Aid  for Gun Shot Wounds
DESCRIPTION:Learn to Save a Life: First Aid for Gunshot Wounds Full Course 
 (3 Hours classroom &amp\; 3 hours for level II on the range)\nInstructor D
 wayne McBryde\n\nA person that is massively bleeding from a gunshot wound 
 has as little as 3 minutes to live. Don't just stand there—learn techniq
 ues anyone can use to buy the precious time needed until EMS arrives. No p
 rior first aid or medical training is needed! In this course you will lear
 n some of the following:\n\n 	How to treat a gunshot wound to an arm or le
 g\n 	How to treat a gunshot wound to the chest or abdomen\n 	How to treat 
 a gunshot wound to the head or neck\n 	How to control shock and place a vi
 ctim into a safe position until EMS arrives\n\nOur Instructors are profess
 ionals with years of experience treating these types of injuries on city s
 treets and the battlefield. They have taken the lessons learned from these
  years of experience and are now teaching them in this course. Our special
  course was more than 2 years in the making\, with the curriculum develope
 d by Rick Hammesfahr\, M.D.\, past chairman of the Curriculum and Examinat
 ion Board (CEB) for the United States Special Operations Command. Under hi
 s guidance\, the CEB developed Tactical Medical Emergency protocols and te
 chniques currently being used on the battlefield today.\n\nGuests will rec
 eive live instruction from one of our gunshot wound first aid instructors\
 , hands-on demonstrations\, and course materials that you can take with yo
 u.\n\nAlso\, you can now purchase your very own First Aid for Gunshot Wou
 nds Pocket Guide that features step-by-step techniques for treating criti
 cal injuries. Click here to get yours today!\n\nThis is a limited series 
 of events. Register today before seats are sold out. Please enter both you
 r first and last name for your course certificate.  We are also offering 
 the range scenario course in the afternoon where you will be able to utili
 ze the skills you have been taught in the morning class.  By attending bo
 th classes you are also invited to join us for our Independence Day Celebr
 ation with a bowling pin shoot\, Cajun boil\, and live music from the Joke
 r Band.\n\nFor more information about the Texas Lawshield Gunshot Wound pr
 ogram go to https://www.uslawshield.com/category/first-aid-for-gunshot-wou
 nds/\n\n&nbsp\;\n\n&nbsp\;
ATTACH;FMTTYPE=image/jpeg:https://www.nebraskashooters.com/wp-content/uplo
 ads/2018/10/home-section-6a.gif
CATEGORIES:Everything,Southeast
LOCATION:Nebraska Shooters\, 3200 Gage Rd\, Firth\, Nebraska\, 68358\, Unit
 ed States
GEO:40.524337;-96.675525
X-APPLE-STRUCTURED-LOCATION;VALUE=URI;X-ADDRESS=3200 Gage Rd\, Firth\, Nebr
 aska\, 68358\, United States;X-APPLE-RADIUS=100;X-TITLE=Nebraska Shooters:
 geo:40.524337,-96.675525
END:VEVENT
BEGIN:VTIMEZONE
TZID:America/North_Dakota/Center
X-LIC-LOCATION:America/North_Dakota/Center
BEGIN:DAYLIGHT
DTSTART:20190310T030000
TZOFFSETFROM:-0600
TZOFFSETTO:-0500
TZNAME:CDT
END:DAYLIGHT
END:VTIMEZONE
END:VCALENDAR