BEGIN:VCALENDAR
VERSION:2.0
PRODID:-//wp-events-plugin.com//7.2.3.1//EN
TZID:America/North_Dakota/Center
X-WR-TIMEZONE:America/North_Dakota/Center
BEGIN:VEVENT
UID:762@nebraskashooters.com
DTSTART;TZID=America/North_Dakota/Center:20190704T130000
DTEND;TZID=America/North_Dakota/Center:20190704T170000
DTSTAMP:20190604T190338Z
URL:https://www.nebraskashooters.com/events/first-aid-for-gun-shot-wounds-
 2/
SUMMARY:First Aid  for Gun Shot Wounds-Level II
DESCRIPTION:Advanced First Aid for Gunshot Wounds Practical Course (3+ Hour
 s)\nThis course is being offered as the follow up to the introductory cour
 se we are offering in the morning.  We will be applying the lessons on th
 e range with real-life scenarios. In this course you will practice some of
  the following:\n\n 	How to treat a gunshot wound to an arm or leg\n 	How 
 to treat a gunshot wound to the chest or abdomen\n 	How to treat a gunshot
  wound to the head or neck\n 	How to control shock and place a victim into
  a safe position until EMS arrives\n\nOur Instructors are professionals wi
 th years of experience treating these types of injuries on city streets an
 d the battlefield. They have taken the lessons learned from these years of
  experience and are now teaching them in this course. Our special course w
 as more than 2 years in the making\, with the curriculum developed by Rick
  Hammesfahr\, M.D.\, past chairman of the Curriculum and Examination Board
  (CEB) for the United States Special Operations Command. Under his guidanc
 e\, the CEB developed Tactical Medical Emergency protocols and techniques 
 currently being used on the battlefield today.\n\nGuests will receive live
  instruction from one of our gunshot wound first aid instructors\, hands-o
 n demonstrations\, and course materials that you can take with you.\n\nAls
 o\, you can now purchase your very own First Aid for Gunshot Wounds Pocke
 t Guide that features step-by-step techniques for treating critical injur
 ies. Click here to get yours today!\n\nThis is a limited series of events
 . Register today before seats are sold out. Please enter both your first a
 nd last name for your course certificate.\n\nThis class is free to those w
 ho are taking two or more of the instructor classes offered between 6/28/1
 9 and 7/7/19.\n\nWe will follow the class by opening the shooting range to
  anyone who wants to do some shooting and then we'll have a bonfire and pi
 cnic and live entertainment!\n\n&nbsp\;\n\n&nbsp\;
ATTACH;FMTTYPE=image/jpeg:https://www.nebraskashooters.com/wp-content/uplo
 ads/2018/10/home-section-6a.gif
CATEGORIES:Everything,Southeast
LOCATION:Nebraska Shooters\, 3200 Gage Rd\, Firth\, Nebraska\, 68358\, Unit
 ed States
GEO:40.524337;-96.675525
X-APPLE-STRUCTURED-LOCATION;VALUE=URI;X-ADDRESS=3200 Gage Rd\, Firth\, Nebr
 aska\, 68358\, United States;X-APPLE-RADIUS=100;X-TITLE=Nebraska Shooters:
 geo:40.524337,-96.675525
END:VEVENT
BEGIN:VTIMEZONE
TZID:America/North_Dakota/Center
X-LIC-LOCATION:America/North_Dakota/Center
BEGIN:DAYLIGHT
DTSTART:20190310T030000
TZOFFSETFROM:-0600
TZOFFSETTO:-0500
TZNAME:CDT
END:DAYLIGHT
END:VTIMEZONE
END:VCALENDAR