BEGIN:VCALENDAR
VERSION:2.0
PRODID:-//wp-events-plugin.com//7.2.3.1//EN
TZID:America/North_Dakota/Center
X-WR-TIMEZONE:America/North_Dakota/Center
BEGIN:VEVENT
UID:523@nebraskashooters.com
DTSTART;TZID=America/North_Dakota/Center:20171021T080000
DTEND;TZID=America/North_Dakota/Center:20171022T170000
DTSTAMP:20171002T181420Z
URL:https://www.nebraskashooters.com/events/defensive-rifle-1/
SUMMARY:Defensive Rifle 1
DESCRIPTION:\n	DEFENSIVE RIFLE 1\n\n\n\n	Instructed by Fredric Voelker\n\n\
 n\n	Defensive Rifle 1 is a low level\, but advanced class that teaches stu
 dents the building blocks to use an AR-15 style platform to develop needed
  skills to protect you or your love one.&nbsp\; Defensive Rifle 1 is &nbsp
 \;not a beginner&rsquo\;s course.&nbsp\; All attendees should have a profi
 cient understanding of firearms marksmanship basics/skills and/or complete
 d a concealed carry class.&nbsp\; &nbsp\;All participants should have a ba
 sic understanding of their defensive rifle system.&nbsp\; The rifle should
  be &ldquo\;zeroed&rdquo\;&nbsp\; prior to attending class. All participan
 ts will be required to provide photo ID prior to starting the class.&nbsp\
 ; All participants will be required to pass an immediate action skills ass
 essment and a pistol qualification course to pass the class.&nbsp\;&nbsp\;
 &nbsp\;\n\n\n\n	Course Description: this course builds on the thought proc
 ess of:&nbsp\; &ldquo\;The purpose of my pistol is to give me a chance to 
 get to my rifle.&rdquo\;&nbsp\; Everyday\, responsible gun owners purchase
  AR style platforms with the intention of having a tool to protect themsel
 ves and their belongings.&nbsp\; After purchasing the AR\, the new owner z
 eros the sights\, and then plans to learn everything they can about the pr
 oper use and techniques of using an AR platform only to be greatly disappo
 inted when they discover this type of training is just not available.&nbsp
 \; This is no longer the case.&nbsp\; Our 2-Day Defensive Rifle Course giv
 es you additional shooting techniques as well as building the skills for l
 ater development of skills.\n\n\n\n	&nbsp\;\n\n\n\n	&nbsp\;Defensive Rifle
  is an intense 2-day firearms training course that focuses on tactical mov
 ement\, rapid target acquisition\, and develops the student&rsquo\;s skill
 s in immediate action drills\, rapid reloading\, tactical reloading\, and 
 the building blocks for advanced shooting skills.&nbsp\; Skills will be de
 veloped in both a classroom setting and while on the range using dynamic a
 ctions with an AR style platform.\n\n\n\n	&nbsp\;\n\n\n\n	Students will be
  instructed in situational awareness drills as well as tactical skills tha
 t will enable them to quickly and efficiently engage targets\, clear malfu
 nctions\, move effectively while performing multiple complex tasks.\n\n\n\
 n	&nbsp\;\n\n\n\n	Because of the level of skill that is needed to develop 
 and learn these skills\, students should realize that this is a fast paced
  and physically demanding firearms training course! Students will be requi
 red to move\, turn\, pivot\, kneel\, and move from both a prone and supine
  position.&nbsp\; Students should arrive for class in good physical condit
 ion\, have reliable equipment that they are familiar with and have solid m
 arksmanship/pistol handling skills established prior to attending this fir
 earms training course.\n\n\n\n	&nbsp\;\n\n\n\n	The following firearms trai
 ning topics will be covered:\n\n\n\n	Overall Skill Assessment\n\n\n\n	Tact
 ical stance and the fundamentals of tactical movement\n\n\n\n	Rapid Sight/
 target acquisition while on the move\n\n\n\n	Close Quarter High Speed Targ
 et Engagement Exercises\n\n\n\n	Speed reloading and tactical reloads\n\n\n
 \n	Multiple Targets &ndash\; Static\n\n\n\n	Immediate action/malfunction d
 rills\n\n\n\n	Close Quarter Evaluation Exercise / Skill Assessment\n\n\n\n
 	Immediate Action/Malfunction Skill Review and Assessment\n\n\n\n	Strong h
 and/weak hand transitional exercises.\n\n\n\n	Mental conditioning and situ
 ational awareness (O.O.D.A. loop)\n\n\n\n	Review of firearms marksmanship 
 fundamentals.\n\n\n\n	Firearm retention introduction.\n\n\n\n	Presentation
  of the rifle from low ready and ready.\n\n\n\n	Tactical shooting concepts
 .\n\n\n\n	Moving from the line and lateral movement.\n\n\n\n	Scanning for 
 threats and additional target acquisition.\n\n\n\n	Engaging targets while 
 advancing\, withdrawing and moving laterally.\n\n\n\n	Engaging targets fro
 m static position turns and pivots.\n\n\n\n	Engaging multiple targets from
  behind barricades while standing\, prone and kneeling.\n\n\n\n	Course dur
 ation: 2 day classes (Total of 16 hours)\n\n\n\n	Student recommended equip
 ment: Note pad &amp\; pen\, eye protection\, ear protection\, baseball typ
 e cap\, heavy BDU style pants\, belt\, AR platform rifle and sling\, at le
 ast 3- 30 round magazines or 5- 10 round magazines.\n\n\n\n	The firearm mu
 st be reliable and&nbsp\; fully functional\, have all safety devices\, and
  have no modifications that could harm other students or instructors.&nbsp
 \; Unsafe firearms will not be allowed on the range.&nbsp\;\n\n\n\n	It is 
 recommended that a vest or MOLLE device with Mag holders be used\, but not
  required.\n\n\n\n	Knee pads are recommended\, but not required.\n\n\n\n	N
 o live ammunition will be allowed in the classroom.&nbsp\;\n\n\n\n	No fire
 arms will be allowed into the classroom\, until they have been inspected\,
  chamber flagged\, and identified as safe.&nbsp\; All firearms will again 
 be inspected prior to any drills that take place in the classroom.&nbsp\; 
 &nbsp\;&nbsp\;\n\n\n\n	Ammunition requirements: 500 rounds (minimum)\n\n\n
 \n	Lunches will be provided and for those traveling from out of town\, the
 re are bunks available onsite with full bath&#39\;s and kitchenette at no 
 additional charge.\n\n
CATEGORIES:Everything
LOCATION:Nebraska Shooters\, 3200 Gage Rd\, Firth\, Nebraska\, 68358\, Unit
 ed States
GEO:40.524337;-96.675525
X-APPLE-STRUCTURED-LOCATION;VALUE=URI;X-ADDRESS=3200 Gage Rd\, Firth\, Nebr
 aska\, 68358\, United States;X-APPLE-RADIUS=100;X-TITLE=Nebraska Shooters:
 geo:40.524337,-96.675525
END:VEVENT
BEGIN:VTIMEZONE
TZID:America/North_Dakota/Center
X-LIC-LOCATION:America/North_Dakota/Center
BEGIN:DAYLIGHT
DTSTART:20170312T030000
TZOFFSETFROM:-0600
TZOFFSETTO:-0500
TZNAME:CDT
END:DAYLIGHT
END:VTIMEZONE
END:VCALENDAR