BEGIN:VCALENDAR
VERSION:2.0
PRODID:-//wp-events-plugin.com//7.2.3.1//EN
TZID:America/North_Dakota/Center
X-WR-TIMEZONE:America/North_Dakota/Center
BEGIN:VEVENT
UID:733@nebraskashooters.com
DTSTART;TZID=America/North_Dakota/Center:20200822T090000
DTEND;TZID=America/North_Dakota/Center:20200823T170000
DTSTAMP:20200413T201758Z
URL:https://www.nebraskashooters.com/events/dave-spaulding-kinetic-pistol/
SUMMARY:Dave Spaulding- Kinetic Combat Pistol
DESCRIPTION:Kinetic Combat Pistol Course\nTaught by Dave Spaulding\n\nThis 
 course is for the shooter who has a solid base of essential skills but now
  must learn how to use them in the pandemonium of armed conflict. It will 
 focus on “movement with purpose” as history has shown combatants seldo
 m stand still when under fire. Movement is more than just short lateral st
 eps as many demonstrate\, it is moving explosively and dynamically\, plant
 ing quickly and shooting accurately to stop the threat. Lateral\, diagonal
 \, forward and rearward movement will be demonstrated and drilled. Disenga
 gement and movement in an around innocent people\, who are there by happen
 stance alone\, will be emphasized. Strong emphasis will also be placed on 
 being able to stop quickly\, shoot accurately and instantly move again. Th
 is is a physical course of instruction\, but one that will help you PREVAI
 L in a pistol fight.\n\nEquipment requirements: A quality handgun (a spare
  is not a bad idea)\, a quality duty or concealment holster for same\, thr
 ee magazines with pouches or two speed-loaders (revolver use) with pouches
 \, belt designed to support gear\, 600 rounds MINIMUM (300 for one day cou
 rse)\, two (2) inert/dummy training rounds of the caliber you are shooting
 \, eye and ear protection\, billed cap is recommended\, clothing for weath
 er conditions\, water for hydration\, a folding or camp chair is recommend
 ed\, a concealing garment is recommended. Any personal gear you prefer. If
  questions\, contact Justin@NebraskaShooters.com or handguncombatives@gmai
 l.com\n\nThe free bunks are available to the first 10 people who reserve t
 hem.  You will just need to bring your own food and drinks and a towel. 
  You will have access to a refrigerator\, microwave\, and 2 full baths.  
 All restaurants and motels are approximately 30 minutes away.\n\nThere are
  only 16 spots available for this and they will go to the 16 qualified peo
 ple who register and pay for their spot.  You must be able to provide som
 e form of good-guy card to take this course so we are assured that you can
  legally own and possess a handgun.  A current concealed carry permit wil
 l suffice.\n\nIf you'd like to be on the waiting list please email us at i
 nfo@nebraskashooters.com\n\nPLEASE NOTE: Tuition is not refundable 30 days
  prior to the course date. Extreme exceptions will be handled on a case by
  case basis.\n\nFor more information about Dave Spaulding and Handgun Comb
 atives LLC please go to http://handguncombatives.com/
ATTACH;FMTTYPE=image/jpeg:https://www.nebraskashooters.com/wp-content/uplo
 ads/2018/08/img2-md.jpg
CATEGORIES:Defensive Pistol,Everything,Nebraska Shooters Range,Southeast
LOCATION:Nebraska Shooters\, 3200 Gage Rd\, Firth\, Nebraska\, 68358\, Unit
 ed States
GEO:40.524337;-96.675525
X-APPLE-STRUCTURED-LOCATION;VALUE=URI;X-ADDRESS=3200 Gage Rd\, Firth\, Nebr
 aska\, 68358\, United States;X-APPLE-RADIUS=100;X-TITLE=Nebraska Shooters:
 geo:40.524337,-96.675525
END:VEVENT
BEGIN:VTIMEZONE
TZID:America/North_Dakota/Center
X-LIC-LOCATION:America/North_Dakota/Center
BEGIN:DAYLIGHT
DTSTART:20200308T030000
TZOFFSETFROM:-0600
TZOFFSETTO:-0500
TZNAME:CDT
END:DAYLIGHT
END:VTIMEZONE
END:VCALENDAR