BEGIN:VCALENDAR
VERSION:2.0
PRODID:-//wp-events-plugin.com//7.2.3.1//EN
TZID:America/North_Dakota/Center
X-WR-TIMEZONE:America/North_Dakota/Center
BEGIN:VEVENT
UID:828@nebraskashooters.com
DTSTART;TZID=America/North_Dakota/Center:20190817T083000
DTEND;TZID=America/North_Dakota/Center:20190817T163000
DTSTAMP:20190809T202921Z
URL:https://www.nebraskashooters.com/events/crete-ccw-8-17-19/
SUMMARY:Firth-CCW 8-17-19
DESCRIPTION:Nebraska Concealed Handgun Training\nInstructed by Bob Howard a
 t 3200 Gage Road Firth\, NE.\nThis is the course required by the State of 
 Nebraska to satisfy the training requirements to get your Concealed Handgu
 n Permit (CHP). After years of refinement our instructors have developed a
  course that is easy for the new shooter to understand while still offerin
 g excellent information to the experienced shooters. The Nebraska Conceal 
 Handgun Training will meet requirements to get your Nebraska permit. Nebra
 ska’s permit will enable legal concealed carry in 35 states.  Check out
  the reciprocity page for more details. This class will also meet the requ
 irements for Iowa or Colorado residents to get their concealed carry permi
 t. This is a non-NRA course taught by an NRA Certified Instructor in stric
 t accordance with a state-approved lesson plan.\n\nIt is required that you
  bring 100 rounds of ammo and your favorite handgun with a dominant-side h
 olster  If you need to borrow a handgun and holster\, we can provide you 
 with the equipment and you will just need to pay for the ammunition.  You
  will also need eye and hearing protection.  Lunch will be provided. Drin
 ks and snacks will be available throughout the day.   Also\, please bring
  a billed cap and no low cut shirts to catch hot brass.\n\nGuarantee: As 
 many of you know\, there are instructors in Nebraska who are offering a qu
 ickie course which does not cover the required material.  Our classes are
  guaranteed to cover the required material so there is no risk of you losi
 ng your permit due to inadequate training. This also ensures that you have
  been introduced to the legal responsibilities of carrying a firearm for s
 elf defense which could easily save you a lot of trouble and hopefully kee
 p you out of court.\n\nBring a friend and get a discount. For group and mi
 litary discounts please follow instructions HERE.
ATTACH;FMTTYPE=image/jpeg:https://www.nebraskashooters.com/wp-content/uplo
 ads/2018/07/ComeSeeNS.jpg
CATEGORIES:Everything,Minnesota,Nebraska Concealed Handgun
 Training,Nebraska Shooters Range,Southeast
LOCATION:Nebraska Shooters\, 3200 Gage Rd\, Firth\, Nebraska\, 68358\, Unit
 ed States
GEO:40.524337;-96.675525
X-APPLE-STRUCTURED-LOCATION;VALUE=URI;X-ADDRESS=3200 Gage Rd\, Firth\, Nebr
 aska\, 68358\, United States;X-APPLE-RADIUS=100;X-TITLE=Nebraska Shooters:
 geo:40.524337,-96.675525
END:VEVENT
BEGIN:VTIMEZONE
TZID:America/North_Dakota/Center
X-LIC-LOCATION:America/North_Dakota/Center
BEGIN:DAYLIGHT
DTSTART:20190310T030000
TZOFFSETFROM:-0600
TZOFFSETTO:-0500
TZNAME:CDT
END:DAYLIGHT
END:VTIMEZONE
END:VCALENDAR