BEGIN:VCALENDAR
VERSION:2.0
PRODID:-//wp-events-plugin.com//7.2.3.1//EN
TZID:America/North_Dakota/Center
X-WR-TIMEZONE:America/North_Dakota/Center
BEGIN:VEVENT
UID:827@nebraskashooters.com
DTSTART;TZID=America/North_Dakota/Center:20190713T083000
DTEND;TZID=America/North_Dakota/Center:20190713T163000
DTSTAMP:20190624T162749Z
URL:https://www.nebraskashooters.com/events/crete-ccw-7-13-19/
SUMMARY:Crete-CCW 7-13-19
DESCRIPTION:Nebraska Concealed Handgun Training\nInstructed by Doug Walker\
 nThis is the course required by the State of Nebraska to satisfy the train
 ing requirements to get your Concealed Handgun Permit (CHP). After years o
 f refinement our instructors have developed a course that is easy for the 
 new shooter to understand while still offering excellent information to th
 e experienced shooters. The Nebraska Conceal Handgun Training will meet re
 quirements to get your Nebraska permit. Nebraska’s permit will enable le
 gal concealed carry in 35 states.  Check out the reciprocity page for mor
 e details. This class will also meet the requirements for Iowa or Colorado
  residents to get their concealed carry permit. This is a non-NRA course t
 aught by an NRA Certified Instructor in strict accordance with a state-app
 roved lesson plan.\n\nIt is required that you bring 100 rounds of ammo and
  your favorite handgun with a dominant-side holster  If you need to borro
 w a handgun and holster\, we can provide you with the equipment and you wi
 ll just need to pay for the ammunition.  You will also need eye and heari
 ng protection.  Lunch will be provided. Drinks and snacks will be availab
 le throughout the day.   Also\, please bring a billed cap and no low cut 
 shirts to catch hot brass.\n\nGuarantee: As many of you know\, there are 
 instructors in Nebraska who are offering a quickie course which does not c
 over the required material.  Our classes are guaranteed to cover the requ
 ired material so there is no risk of you losing your permit due to inadequ
 ate training. This also ensures that you have been introduced to the legal
  responsibilities of carrying a firearm for self defense which could easil
 y save you a lot of trouble and hopefully keep you out of court.\n\nBring 
 a friend and get a discount. For group and military discounts please follo
 w instructions HERE.
ATTACH;FMTTYPE=image/jpeg:https://www.nebraskashooters.com/wp-content/uplo
 ads/2018/07/ComeSeeNS.jpg
CATEGORIES:Crete,Everything,Nebraska Concealed Handgun Training,Southeast
LOCATION:Crete\, 346 County Rd 2300\, Crete\, Nebraska\, 68333\, United Sta
 tes
GEO:40.662075;-96.950671
X-APPLE-STRUCTURED-LOCATION;VALUE=URI;X-ADDRESS=346 County Rd 2300\, Crete\
 , Nebraska\, 68333\, United States;X-APPLE-RADIUS=100;X-TITLE=Crete:geo:40
 .662075,-96.950671
END:VEVENT
BEGIN:VTIMEZONE
TZID:America/North_Dakota/Center
X-LIC-LOCATION:America/North_Dakota/Center
BEGIN:DAYLIGHT
DTSTART:20190310T030000
TZOFFSETFROM:-0600
TZOFFSETTO:-0500
TZNAME:CDT
END:DAYLIGHT
END:VTIMEZONE
END:VCALENDAR