BEGIN:VCALENDAR
VERSION:2.0
PRODID:-//wp-events-plugin.com//7.2.3.1//EN
TZID:America/North_Dakota/Center
X-WR-TIMEZONE:America/North_Dakota/Center
BEGIN:VEVENT
UID:1104@nebraskashooters.com
DTSTART;TZID=America/North_Dakota/Center:20201024T080000
DTEND;TZID=America/North_Dakota/Center:20201024T163000
DTSTAMP:20200923T191652Z
URL:https://www.nebraskashooters.com/events/crete-ccw-10-24-20/
SUMMARY:Crete-CCW 10-24-20
DESCRIPTION:Nebraska Concealed Handgun Training\nInstructed by Doug Walker\
 nThis is the course required by the State of Nebraska to satisfy the train
 ing requirements to get your Concealed Handgun Permit (CHP). After years o
 f refinement our instructors have developed a course that is easy for the 
 new shooter to understand while still offering excellent information to th
 e experienced shooters. The Nebraska Conceal Handgun Training will meet re
 quirements to get your Nebraska permit. Nebraska’s permit will enable le
 gal concealed carry in 34 states.  Check out the reciprocity page for mor
 e details. This class will also meet the requirements for Iowa or Colorado
  residents to get their concealed carry permit. This is a non-NRA course t
 aught by an NRA Certified Instructor in strict accordance with a state-app
 roved lesson plan.\n\nIt is required that you bring:\n\n 	100 rounds of am
 mo\n 	handgun\n 	dominant-side holster and belt\n 	eye and hearing protect
 ion (prescription glasses are acceptable)\n 	A sack lunch (there are no re
 staurants nearby)\n\n If you need to borrow a handgun and holster\, we can
  provide you with the equipment and you will just need to bring the ammuni
 tion.  Drinks and snacks will be available throughout the day.   Also\, 
 please bring a billed cap and no low cut shirts to catch hot brass.\n\nGua
 rantee: As many of you know\, there are instructors in Nebraska who are of
 fering a quickie course which does not cover the required material.  Our 
 classes are guaranteed to cover the required material so there is no risk 
 of you losing your permit due to inadequate training. This also ensures th
 at you have been introduced to the legal responsibilities of carrying a fi
 rearm for self defense which could easily save you a lot of trouble and ho
 pefully keep you out of court.\n\nIf you need to withdraw\, please give pl
 enty of notice.  Read our REFUND POLICY HERE.\n\nEach student will need t
 o register separately.  Each student needs to have their own email addres
 s. Please double check your name as it appears on your driver's license be
 cause your certificate will need to match exactly.  (Include middle name 
 or initial if it is on your DL)\n\nBring a friend and get a discount follo
 wing THESE INSTRUCTIONS.
ATTACH;FMTTYPE=image/jpeg:https://www.nebraskashooters.com/wp-content/uplo
 ads/2018/07/ComeSeeNS.jpg
CATEGORIES:Crete,Everything,Nebraska Concealed Handgun Training,Southeast
LOCATION:Crete\, 346 County Rd 2300\, Crete\, Nebraska\, 68333\, United Sta
 tes
GEO:40.662075;-96.950671
X-APPLE-STRUCTURED-LOCATION;VALUE=URI;X-ADDRESS=346 County Rd 2300\, Crete\
 , Nebraska\, 68333\, United States;X-APPLE-RADIUS=100;X-TITLE=Crete:geo:40
 .662075,-96.950671
END:VEVENT
BEGIN:VTIMEZONE
TZID:America/North_Dakota/Center
X-LIC-LOCATION:America/North_Dakota/Center
BEGIN:DAYLIGHT
DTSTART:20200308T030000
TZOFFSETFROM:-0600
TZOFFSETTO:-0500
TZNAME:CDT
END:DAYLIGHT
END:VTIMEZONE
END:VCALENDAR