BEGIN:VCALENDAR
VERSION:2.0
PRODID:-//wp-events-plugin.com//7.2.3.1//EN
TZID:America/North_Dakota/Center
X-WR-TIMEZONE:America/North_Dakota/Center
BEGIN:VEVENT
UID:1961@nebraskashooters.com
DTSTART;TZID=America/North_Dakota/Center:20260411T090000
DTEND;TZID=America/North_Dakota/Center:20260411T130000
DTSTAMP:20260410T005450Z
URL:https://www.nebraskashooters.com/events/cowboy-action-shooting-april-2
 026/
SUMMARY:Cowboy Action Shooting April-2026
DESCRIPTION:COWBOY ACTION SHOOTING\nCANCELLED DUE TO WEATHER\nThe Lancaster
  County Bounty Collection Agency is having their monthly match on the seco
 nd Saturday of the month from April to October and you are welcome to come
  join us!\n\nThis is a great time for shooters and enthusiast of all ages!
   If you plan to shoot\, please make sure to come in time for the safety 
 briefing at 8:45 am. Hostilities will commence at 9:00.\n\nThis competitio
 n will include stages with revolvers\, shotguns\, and rifles of the late 1
 800 era.  There will be side matches and other fun activities throughout 
 the day.  Main match is only $15 to enter and free to watch.\n\nMatches w
 ill follow SASS rules which can be found at Sassnet.com\n\nYou do not need
  to be a member of SASS (Single Action Shooting Society) to participate\, 
 but it is recommended that you become a member at some point\n\nYou will n
 eed to assign yourself an alias which will be registered to you when becom
 ing a member.\n\n&nbsp\;
ATTACH;FMTTYPE=image/jpeg:https://www.nebraskashooters.com/wp-content/uplo
 ads/2021/11/OK-Corral.jpg
CATEGORIES:Cowboy Action Shooting,Everything,Fun Shoot
LOCATION:Nebraska Shooters\, 3200 Gage Rd\, Firth\, Nebraska\, 68358\, Unit
 ed States
GEO:40.524337;-96.675525
X-APPLE-STRUCTURED-LOCATION;VALUE=URI;X-ADDRESS=3200 Gage Rd\, Firth\, Nebr
 aska\, 68358\, United States;X-APPLE-RADIUS=100;X-TITLE=Nebraska Shooters:
 geo:40.524337,-96.675525
END:VEVENT
BEGIN:VTIMEZONE
TZID:America/North_Dakota/Center
X-LIC-LOCATION:America/North_Dakota/Center
BEGIN:DAYLIGHT
DTSTART:20260308T030000
TZOFFSETFROM:-0600
TZOFFSETTO:-0500
TZNAME:CDT
END:DAYLIGHT
END:VTIMEZONE
END:VCALENDAR