BEGIN:VCALENDAR
VERSION:2.0
PRODID:-//wp-events-plugin.com//7.2.3.1//EN
TZID:America/North_Dakota/Center
X-WR-TIMEZONE:America/North_Dakota/Center
BEGIN:VEVENT
UID:802@nebraskashooters.com
DTSTART;TZID=America/North_Dakota/Center:20190518T080000
DTEND;TZID=America/North_Dakota/Center:20190518T170000
DTSTAMP:20190412T185952Z
URL:https://www.nebraskashooters.com/events/concealed-carry-workshop-12/
SUMMARY:Concealed Carry Workshop
DESCRIPTION:Concealed Carry Workshop\nInstructed by Bob Howard\nIf you have
  a concealed carry permit but haven't trained since you received your cert
 ification this class is for you.  The CCW workshop is the next level in C
 CW training and will make you a better\, smarter\, faster and more accur
 ate shooter.  You will shoot several repetitive drills that focus on buil
 ding the muscle memory necessary for accurate shooting while incrementally
  increasing speed.  All live fire drills are performed from a holstered
  concealed position and by the end of class many students will be able to 
 draw and fire 2 rounds into center mass from 5 yards in under 3 seconds.\
 n\n\n\nAdditional topics covered include:\n\n    Live fire Tueller dri
 ll using moving 3D targets\n    Anatomical stopping power\n    Liv
 e fire handgun retention drills\n    Live fire demonstration featuring
  "Handgun rounds vs. multiple sheetrock walls"\n    Firing "Squib" loa
 ds. If you don't know what it feels and sounds like how will you recognize
  them?\nWe will also shoot the Nebraska Law enforcement Qualification Cou
 rse at the end of the day so you can have documentation that you have met 
 the standard set forth by law enforcement.\n    and as always\,  we'
 ll probably blow something up at the end of class just because it's fun to
  do :)\n\nWhat to bring:\n\n    Quality serviceable handgun\n    C
 oncealed carry holster.  Holster must mount securely to belt and have a r
 igid non-collapsible mouth.  Strong\n    side hip holsters only.  C
 ross-draw\, shoulder\, ankle\, or Blackhawk Serpa holsters will not be per
 mitted.\n    3 magazines\n    magazine carrier for spare magazines
 \n    300-400 rounds of ammunition\n    ball cap\n    weather 
 appropriate clothing\n    Eye and ear protection (Electronic hearing p
 rotection HIGHLY recommended)\n\nAll firearms and holsters will be inspect
 ed at the beginning of class.  If you have a question as to whether your 
 equipment is suitable please contact us ahead of time.
CATEGORIES:CCW Workshop,Defensive Pistol,Everything,Nebraska Shooters
 Range,Southeast
LOCATION:Nebraska Shooters\, 3200 Gage Rd\, Firth\, Nebraska\, 68358\, Unit
 ed States
GEO:40.524337;-96.675525
X-APPLE-STRUCTURED-LOCATION;VALUE=URI;X-ADDRESS=3200 Gage Rd\, Firth\, Nebr
 aska\, 68358\, United States;X-APPLE-RADIUS=100;X-TITLE=Nebraska Shooters:
 geo:40.524337,-96.675525
END:VEVENT
BEGIN:VTIMEZONE
TZID:America/North_Dakota/Center
X-LIC-LOCATION:America/North_Dakota/Center
BEGIN:DAYLIGHT
DTSTART:20190310T030000
TZOFFSETFROM:-0600
TZOFFSETTO:-0500
TZNAME:CDT
END:DAYLIGHT
END:VTIMEZONE
END:VCALENDAR