BEGIN:VCALENDAR
VERSION:2.0
PRODID:-//wp-events-plugin.com//7.2.3.1//EN
TZID:America/North_Dakota/Center
X-WR-TIMEZONE:America/North_Dakota/Center
BEGIN:VEVENT
UID:542@nebraskashooters.com
DTSTART;TZID=America/North_Dakota/Center:20180421T080000
DTEND;TZID=America/North_Dakota/Center:20180421T170000
DTSTAMP:20180418T215803Z
URL:https://www.nebraskashooters.com/events/concealed-carry-workshop-11/
SUMMARY:Concealed Carry Workshop
DESCRIPTION:Concealed Carry Workshop\nInstructed by Bob Howard\n\n(Proceeds
  will go to the Sesostris Gun Club)\nIf you have a concealed carry permit 
 but haven't trained since you received your certification this class is fo
 r you.&nbsp\; The CCW workshop is the next level in CCW training and will&
 nbsp\;make&nbsp\;you a better\, smarter\, faster and more accurate shooter
 .&nbsp\; You will shoot several repetitive drills that focus on building t
 he muscle memory necessary for accurate shooting while incrementally incre
 asing speed.&nbsp\; All live fire drills are performed&nbsp\;from&nbsp\;a 
 holstered concealed position and by the end of class many students will be
  able to draw and&nbsp\;fire 2 rounds into center mass from 5 yards in und
 er 3 seconds.&nbsp\;\n&nbsp\;\n&nbsp\;\nAdditional topics covered include:
 \n&nbsp\;\n&nbsp\;&nbsp\;&nbsp\;&nbsp\;Live fire Tueller drill using movin
 g 3D targets\n&nbsp\;&nbsp\;&nbsp\;&nbsp\;Anatomical stopping power\n&nbsp
 \;&nbsp\;&nbsp\;&nbsp\;Live fire handgun retention drills\n&nbsp\;&nbsp\;&
 nbsp\;&nbsp\;Live fire demonstration featuring "Handgun rounds vs. multipl
 e sheetrock walls"\n&nbsp\;&nbsp\;&nbsp\;&nbsp\;Firing "Squib" loads. If y
 ou don't know what it feels and sounds like how will you recognize&nbsp\;t
 hem?\n&nbsp\; &nbsp\; We will also shoot the Nebraska Law enforcement Qual
 ification Course at the end of the day so you can have documentation that 
 you have met the standard set forth by law enforcement.\n&nbsp\;&nbsp\;&nb
 sp\;&nbsp\;and&nbsp\;as always\,&nbsp\; we'll probably blow something up a
 t the end of class just because it's fun to do :)&nbsp\;\n&nbsp\;&nbsp\;&n
 bsp\;&nbsp\;\nWhat to bring:\n&nbsp\;\n&nbsp\;&nbsp\;&nbsp\;&nbsp\;Quality
  serviceable handgun\n&nbsp\;&nbsp\;&nbsp\;&nbsp\;Concealed carry holster.
 &nbsp\; Holster must mount securely to belt and have a rigid non-collapsib
 le mouth.&nbsp\;&nbsp\;Strong&nbsp\;\n&nbsp\;&nbsp\;&nbsp\;&nbsp\;side hip
  holsters only.&nbsp\; Cross-draw\, shoulder\, ankle\, or Blackhawk Serpa 
 holsters will not be permitted.\n&nbsp\;&nbsp\;&nbsp\;&nbsp\;3 magazines\n
 &nbsp\;&nbsp\;&nbsp\;&nbsp\;magazine carrier for spare magazines\n&nbsp\;&
 nbsp\;&nbsp\;&nbsp\;300-400 rounds of ammunition\n&nbsp\;&nbsp\;&nbsp\;&nb
 sp\;ball cap\n&nbsp\;&nbsp\;&nbsp\;&nbsp\;weather appropriate clothing\n&n
 bsp\;&nbsp\;&nbsp\;&nbsp\;Eye and ear protection (Electronic hearing prote
 ction HIGHLY recommended)\n&nbsp\;\nAll firearms and holsters will be insp
 ected at the beginning of class.&nbsp\; If you have a question as to wheth
 er your equipment is suitable please contact us ahead of time.&nbsp\;
CATEGORIES:CCW Workshop,Defensive Pistol,Everything,Fund Raiser,Nebraska
 Shooters Range,Southeast
LOCATION:Nebraska Shooters\, 3200 Gage Rd\, Firth\, Nebraska\, 68358\, Unit
 ed States
GEO:40.524337;-96.675525
X-APPLE-STRUCTURED-LOCATION;VALUE=URI;X-ADDRESS=3200 Gage Rd\, Firth\, Nebr
 aska\, 68358\, United States;X-APPLE-RADIUS=100;X-TITLE=Nebraska Shooters:
 geo:40.524337,-96.675525
END:VEVENT
BEGIN:VTIMEZONE
TZID:America/North_Dakota/Center
X-LIC-LOCATION:America/North_Dakota/Center
BEGIN:DAYLIGHT
DTSTART:20180311T030000
TZOFFSETFROM:-0600
TZOFFSETTO:-0500
TZNAME:CDT
END:DAYLIGHT
END:VTIMEZONE
END:VCALENDAR