BEGIN:VCALENDAR
VERSION:2.0
PRODID:-//wp-events-plugin.com//7.2.3.1//EN
TZID:America/North_Dakota/Center
X-WR-TIMEZONE:America/North_Dakota/Center
BEGIN:VEVENT
UID:559@nebraskashooters.com
DTSTART;TZID=America/North_Dakota/Center:20180217T080000
DTEND;TZID=America/North_Dakota/Center:20180217T163000
DTSTAMP:20180212T180759Z
URL:https://www.nebraskashooters.com/events/ccw-sidney-2-17-18/
SUMMARY:CCW-Sidney-2-17-18
DESCRIPTION:Nebraska Concealed Handgun Training (FULL)\nInstructed by Dusti
 n and Renee Thomas.\n\nThis is the course required by the State of Nebrask
 a to satisfy the training requirements to get your Concealed Handgun Permi
 t (CHP). After years of refinement our instructors have developed a course
  that is easy for the new shooter to understand while still offering excel
 lent information to the experienced shooters.&nbsp\;The Nebraska Conceal H
 andgun Training will meet requirements to get your Nebraska permit. Nebras
 ka’s permit will enable legal concealed carry in 34&nbsp\;states. &nbsp\
 ;Check out the reciprocity page for more details. This class will also mee
 t the requirements for Iowa or Colorado residents to get their concealed c
 arry permit. This is a non-NRA course taught by an NRA Certified Instructo
 r in strict accordance with a state-approved lesson plan. Feel free to con
 tact Renee Thomas for more information at (308)249-1612.\n\nIt is required
  that you bring 100 rounds of ammo and your favorite handgun with a domina
 nt-side holster &nbsp\;If you need to borrow a handgun and holster\, we ca
 n provide you with the equipment and you will just need to pay for the amm
 unition.&nbsp\; You will also need eye and hearing protection.&nbsp\; Lunc
 h and snacks are provided\, but you are always welcome to bring your own. 
 (Remember\, there are no&nbsp\;restaurants&nbsp\;nearby).\n\nYou also have
  the option of sticking around to get your Minnesota Non-Resident training
  for an extra $20. &nbsp\;This training is recognized by the State of Minn
 esota when applying for your Minnesota Carry Permit. This permit will allo
 w you to carry concealed or open when traveling through the state of Minne
 sota.\n\nGuarantee: As many of you know\, there are instructors in Nebrask
 a who are offering a quickie course which does not cover the required mate
 rial. &nbsp\;Our classes are guaranteed to cover the required material so 
 there is no risk of you losing your permit due to inadequate training. Thi
 s also ensures that you have been introduced to the legal responsibilities
  of carrying a firearm for self defense which could easily save you a lot 
 of trouble and hopefully keep you out of court.\n\n&nbsp\;
ATTACH;FMTTYPE=image/jpeg:https://www.nebraskashooters.com/wp-content/uplo
 ads/2017/01/Nebraska-Shooters-PF-1-Billboard.jpg
CATEGORIES:Everything,Nebraska Concealed Handgun Training,Panhandle,Sidney
 Renee and Dustin Thomas
LOCATION:Sidney\, 10795 Rd 28\, Sidney\, Nebraska\, 69162\, United States
GEO:41.1924364;-103.02057179999997
X-APPLE-STRUCTURED-LOCATION;VALUE=URI;X-ADDRESS=10795 Rd 28\, Sidney\, Nebr
 aska\, 69162\, United States;X-APPLE-RADIUS=100;X-TITLE=Sidney:geo:41.1924
 364,-103.02057179999997
END:VEVENT
BEGIN:VTIMEZONE
TZID:America/North_Dakota/Center
X-LIC-LOCATION:America/North_Dakota/Center
BEGIN:STANDARD
DTSTART:20171105T010000
TZOFFSETFROM:-0500
TZOFFSETTO:-0600
TZNAME:CST
END:STANDARD
END:VTIMEZONE
END:VCALENDAR