BEGIN:VCALENDAR
VERSION:2.0
PRODID:-//wp-events-plugin.com//7.2.3.1//EN
TZID:America/North_Dakota/Center
X-WR-TIMEZONE:America/North_Dakota/Center
BEGIN:VEVENT
UID:521@nebraskashooters.com
DTSTART;TZID=America/North_Dakota/Center:20171014T080000
DTEND;TZID=America/North_Dakota/Center:20171014T163000
DTSTAMP:20170919T212355Z
URL:https://www.nebraskashooters.com/events/ccw-sidney-10-14-17/
SUMMARY:CCW-Sidney-10-14-17
DESCRIPTION:\n	Nebraska Concealed Handgun Training instructed by Dustin and
  Renee Thomas. This is the course required by the State of Nebraska to sat
 isfy the training requirements to get your Concealed Handgun Permit (CHP).
  After years of refinement our instructors have developed a course that is
  easy for the new shooter to understand while still offering excellent inf
 ormation to the experienced shooters.&nbsp\;The Nebraska Conceal Handgun T
 raining will meet requirements to get your Nebraska permit. Nebraska&rsquo
 \;s permit will enable legal concealed carry in 34&nbsp\;states. &nbsp\;Ch
 eck out the reciprocity page for more details. This class will also meet t
 he requirements for Iowa or Colorado residents to get their concealed carr
 y permit. This is a non-NRA course taught by an NRA Certified Instructor i
 n strict accordance with a state-approved lesson plan. Feel free to contac
 t Renee Thomas for more information at (308)249-1612.\n\n\n\n	It is requir
 ed that you bring 100 rounds of ammo and your favorite handgun with a domi
 nant-side holster &nbsp\;If you need to borrow a handgun and holster\, we 
 can provide you with the equipment and you will just need to pay for the a
 mmunition.&nbsp\; You will also need eye and hearing protection.&nbsp\; Lu
 nch and snacks are provided\, but you are always welcome to bring your own
 . (Remember\, there are no&nbsp\;restaurants&nbsp\;nearby).\n\n\n\n	You al
 so have the option of sticking around to get your Minnesota Non-Resident t
 raining for an extra $20. &nbsp\;This training is recognized by the State 
 of Minnesota when applying for your Minnesota Carry Permit. This permit wi
 ll allow you to carry concealed or open when traveling through the state o
 f Minnesota.\n\n\n\n	Guarantee: As many of you know\, there are instructor
 s in Nebraska who are offering a quickie course which does not cover the r
 equired material. &nbsp\;Our classes are guaranteed to cover the required 
 material so there is no risk of you losing your permit due to inadequate t
 raining. This also ensures that you have been introduced to the legal resp
 onsibilities of carrying a firearm for self defense which could easily sav
 e you a lot of trouble and hopefully keep you out of court.\n\n\n\n	&nbsp\
 ;\n\n
ATTACH;FMTTYPE=image/jpeg:https://www.nebraskashooters.com/wp-content/uplo
 ads/2017/01/Nebraska-Shooters-PF-1-Billboard.jpg
CATEGORIES:Everything,Nebraska Concealed Handgun Training,Sidney Renee and
 Dustin Thomas
LOCATION:Sidney\, 10795 Rd 28\, Sidney\, Nebraska\, 69162\, United States
GEO:41.1924364;-103.02057179999997
X-APPLE-STRUCTURED-LOCATION;VALUE=URI;X-ADDRESS=10795 Rd 28\, Sidney\, Nebr
 aska\, 69162\, United States;X-APPLE-RADIUS=100;X-TITLE=Sidney:geo:41.1924
 364,-103.02057179999997
END:VEVENT
BEGIN:VTIMEZONE
TZID:America/North_Dakota/Center
X-LIC-LOCATION:America/North_Dakota/Center
BEGIN:DAYLIGHT
DTSTART:20170312T030000
TZOFFSETFROM:-0600
TZOFFSETTO:-0500
TZNAME:CDT
END:DAYLIGHT
END:VTIMEZONE
END:VCALENDAR