BEGIN:VCALENDAR
VERSION:2.0
PRODID:-//wp-events-plugin.com//7.2.3.1//EN
TZID:America/North_Dakota/Center
X-WR-TIMEZONE:America/North_Dakota/Center
BEGIN:VEVENT
UID:558@nebraskashooters.com
DTSTART;TZID=America/North_Dakota/Center:20180113T080000
DTEND;TZID=America/North_Dakota/Center:20180113T163000
DTSTAMP:20171128T181530Z
URL:https://www.nebraskashooters.com/events/ccw-sidney-1-13-18/
SUMMARY:CCW-Sidney-1-13-18
DESCRIPTION:\n	Nebraska Concealed Handgun Training\n\n\n\n	Instructed by Du
 stin and Renee Thomas.\n\n\n\n	This is the course required by the State of
  Nebraska to satisfy the training requirements to get your Concealed Handg
 un Permit (CHP). After years of refinement our instructors have developed 
 a course that is easy for the new shooter to understand while still offeri
 ng excellent information to the experienced shooters.&nbsp\;The Nebraska C
 onceal Handgun Training will meet requirements to get your Nebraska permit
 . Nebraska&rsquo\;s permit will enable legal concealed carry in 34&nbsp\;s
 tates. &nbsp\;Check out the reciprocity page for more details. This class 
 will also meet the requirements for Iowa or Colorado residents to get thei
 r concealed carry permit. This is a non-NRA course taught by an NRA Certif
 ied Instructor in strict accordance with a state-approved lesson plan. Fee
 l free to contact Renee Thomas for more information at (308)249-1612.\n\n\
 n\n	It is required that you bring 100 rounds of ammo and your favorite han
 dgun with a dominant-side holster &nbsp\;If you need to borrow a handgun a
 nd holster\, we can provide you with the equipment and you will just need 
 to pay for the ammunition.&nbsp\; You will also need eye and hearing prote
 ction.&nbsp\; Lunch and snacks are provided\, but you are always welcome t
 o bring your own. (Remember\, there are no&nbsp\;restaurants&nbsp\;nearby)
 .\n\n\n\n	You also have the option of sticking around to get your Minnesot
 a Non-Resident training for an extra $20. &nbsp\;This training is recogniz
 ed by the State of Minnesota when applying for your Minnesota Carry Permit
 . This permit will allow you to carry concealed or open when traveling thr
 ough the state of Minnesota.\n\n\n\n	Guarantee: As many of you know\, ther
 e are instructors in Nebraska who are offering a quickie course which does
  not cover the required material. &nbsp\;Our classes are guaranteed to cov
 er the required material so there is no risk of you losing your permit due
  to inadequate training. This also ensures that you have been introduced t
 o the legal responsibilities of carrying a firearm for self defense which 
 could easily save you a lot of trouble and hopefully keep you out of court
 .\n\n\n\n	&nbsp\;\n\n
ATTACH;FMTTYPE=image/jpeg:https://www.nebraskashooters.com/wp-content/uplo
 ads/2017/01/Nebraska-Shooters-PF-1-Billboard.jpg
CATEGORIES:Everything,Nebraska Concealed Handgun Training,Panhandle,Sidney
 Renee and Dustin Thomas
LOCATION:Sidney\, 10795 Rd 28\, Sidney\, Nebraska\, 69162\, United States
GEO:41.1924364;-103.02057179999997
X-APPLE-STRUCTURED-LOCATION;VALUE=URI;X-ADDRESS=10795 Rd 28\, Sidney\, Nebr
 aska\, 69162\, United States;X-APPLE-RADIUS=100;X-TITLE=Sidney:geo:41.1924
 364,-103.02057179999997
END:VEVENT
BEGIN:VTIMEZONE
TZID:America/North_Dakota/Center
X-LIC-LOCATION:America/North_Dakota/Center
BEGIN:STANDARD
DTSTART:20171105T010000
TZOFFSETFROM:-0500
TZOFFSETTO:-0600
TZNAME:CST
END:STANDARD
END:VTIMEZONE
END:VCALENDAR