BEGIN:VCALENDAR
VERSION:2.0
PRODID:-//wp-events-plugin.com//7.2.3.1//EN
TZID:America/North_Dakota/Center
X-WR-TIMEZONE:America/North_Dakota/Center
BEGIN:VEVENT
UID:735@nebraskashooters.com
DTSTART;TZID=America/Denver:20190112T090000
DTEND;TZID=America/Denver:20190112T180000
DTSTAMP:20190114T210543Z
URL:https://www.nebraskashooters.com/events/ccw-sidney-1-12-19/
SUMMARY:CCW-Sidney-1-12-19
DESCRIPTION:Nebraska Concealed Handgun Training\nInstructed by Dustin and R
 enee Thomas\n\nThis is the course required by the State of Nebraska to sat
 isfy the training requirements to get your Concealed Handgun Permit (CHP).
  After years of refinement our instructors have developed a course that is
  easy for the new shooter to understand while still offering excellent inf
 ormation to the experienced shooters. The Nebraska Conceal Handgun Traini
 ng will meet requirements to get your Nebraska permit. Nebraska’s permit
  will enable legal concealed carry in 34 states.  Check out the reciproc
 ity page for more details. This class will also meet the requirements for 
 Iowa or Colorado residents to get their concealed carry permit. This is a 
 non-NRA course taught by an NRA Certified Instructor in strict accordance 
 with a state-approved lesson plan. Feel free to contact Renee Thomas for m
 ore information at (308)249-1612.\n\nIt is required that you bring 100 rou
 nds of ammo and your favorite handgun with a dominant-side holster  If yo
 u need to borrow a handgun and holster\, we can provide you with the equip
 ment and you will just need to pay for the ammunition.  You will also nee
 d eye and hearing protection.  Lunch and snacks are provided\, but you ar
 e always welcome to bring your own. (Remember\, there are no restaurants
  nearby).\n\nYou also have the option of sticking around to get your Minn
 esota Non-Resident training for an extra $20.  This training is recognize
 d by the State of Minnesota when applying for your Minnesota Carry Permit.
  This permit will allow you to carry concealed or open when traveling thro
 ugh the state of Minnesota.\n\nGuarantee: As many of you know\, there are 
 instructors in Nebraska who are offering a quickie course which does not c
 over the required material.  Our classes are guaranteed to cover the requ
 ired material so there is no risk of you losing your permit due to inadequ
 ate training. This also ensures that you have been introduced to the legal
  responsibilities of carrying a firearm for self defense which could easil
 y save you a lot of trouble and hopefully keep you out of court.\n\nEach s
 tudent needs to register separately so we can gather the required informat
 ion to prepare for the class.
ATTACH;FMTTYPE=image/jpeg:https://www.nebraskashooters.com/wp-content/uplo
 ads/2018/07/ComeSeeNS.jpg
CATEGORIES:Everything,Nebraska Concealed Handgun Training,Panhandle,Sidney
 Renee and Dustin Thomas
LOCATION:Sidney\, 10795 Rd 28\, Sidney\, Nebraska\, 69162\, United States
GEO:41.1924364;-103.02057179999997
X-APPLE-STRUCTURED-LOCATION;VALUE=URI;X-ADDRESS=10795 Rd 28\, Sidney\, Nebr
 aska\, 69162\, United States;X-APPLE-RADIUS=100;X-TITLE=Sidney:geo:41.1924
 364,-103.02057179999997
END:VEVENT
BEGIN:VTIMEZONE
TZID:America/Denver
X-LIC-LOCATION:America/Denver
BEGIN:STANDARD
DTSTART:20181104T010000
TZOFFSETFROM:-0600
TZOFFSETTO:-0700
TZNAME:MST
END:STANDARD
END:VTIMEZONE
END:VCALENDAR