BEGIN:VCALENDAR
VERSION:2.0
PRODID:-//wp-events-plugin.com//7.2.3.1//EN
TZID:America/North_Dakota/Center
X-WR-TIMEZONE:America/North_Dakota/Center
BEGIN:VEVENT
UID:815@nebraskashooters.com
DTSTART;TZID=America/North_Dakota/Center:20190608T080000
DTEND;TZID=America/North_Dakota/Center:20190608T180000
DTSTAMP:20190512T230131Z
URL:https://www.nebraskashooters.com/events/ccw-pierce-6-8-19/
SUMMARY:CCW- Pierce 6-8-19
DESCRIPTION:This  Nebraska Concealed Carry class Northwest of Norfolk at t
 he Town and Country Insurance at 210 E. Main St in Pierce.\n\nThis Nebrask
 a Concealed Handgun Training will be instructed by Randel Schnebel. This 
 is the course required by the State of Nebraska to satisfy the training re
 quirements to get your Concealed Handgun Permit (CHP). After years of refi
 nement our instructors have developed a course that is easy for the new sh
 ooter to understand while still offering excellent information to the expe
 rienced shooters. The Nebraska Conceal Handgun Training will meet requirem
 ents to get your Nebraska permit. Nebraska’s permit will enable legal co
 ncealed carry in 35 states.  Check out the reciprocity page for more deta
 ils. This class will also meet the requirements for Kansas\, Iowa or Color
 ado residents to get their concealed carry permit. This is a non-NRA cours
 e taught by an NRA Certified Instructor in strict accordance with a state-
 approved lesson plan.\n\nIt is required that you bring 100 rounds of ammo 
 and your favorite handgun with a dominant-side holster  If you need to bo
 rrow a handgun and holster\, we can provide you with the equipment if you 
 give us a heads up before class and you will just need to pay for the amm
 unition.  You will also need eye and hearing protection.  Please bring a
  sack lunch. Drinks and snacks will be available throughout the day.\n\nGu
 arantee: As many of you know\, there are instructors in Nebraska who are o
 ffering a quickie course which does not cover the required material.  Our
  classes are guaranteed to cover the required material so there is no risk
  of you losing your permit due to inadequate training. This also ensures t
 hat you have been introduced to the legal responsibilities of carrying a f
 irearm for self defense which could easily save you a lot of trouble and h
 opefully keep you out of court.\n\nFor those seeking the Minnesota Non-Res
 ident\, please keep in mind that the Minnesota training requires much of t
 he material that is the Nebraska Shooters Nebraska Concealed Handgun Cours
 e. If you took your Nebraska course elsewhere\, you will need to take adva
 ntage of our free refresher course and attend the entire day to meet the r
 equirements. If you took your CHP course through us\, you can simply atten
 d the Minnesota portion which should begin around 5:00 pm.\n\nGroup discou
 nts are available- Click here for details
ATTACH;FMTTYPE=image/jpeg:https://www.nebraskashooters.com/wp-content/uplo
 ads/2018/07/ComeSeeNS.jpg
CATEGORIES:Everything,Nebraska Concealed Handgun Training,Norfolk,Pierce
LOCATION:Town & Country\, 210 E Main St\, Pierce\, NE\, 68767\, United Stat
 es
GEO:42.19907;-97.525905
X-APPLE-STRUCTURED-LOCATION;VALUE=URI;X-ADDRESS=210 E Main St\, Pierce\, NE
 \, 68767\, United States;X-APPLE-RADIUS=100;X-TITLE=Town & Country:geo:42.
 19907,-97.525905
END:VEVENT
BEGIN:VTIMEZONE
TZID:America/North_Dakota/Center
X-LIC-LOCATION:America/North_Dakota/Center
BEGIN:DAYLIGHT
DTSTART:20190310T030000
TZOFFSETFROM:-0600
TZOFFSETTO:-0500
TZNAME:CDT
END:DAYLIGHT
END:VTIMEZONE
END:VCALENDAR