BEGIN:VCALENDAR
VERSION:2.0
PRODID:-//wp-events-plugin.com//7.2.3.1//EN
TZID:America/North_Dakota/Center
X-WR-TIMEZONE:America/North_Dakota/Center
BEGIN:VEVENT
UID:800@nebraskashooters.com
DTSTART;TZID=America/North_Dakota/Center:20190511T080000
DTEND;TZID=America/North_Dakota/Center:20190511T180000
DTSTAMP:20190407T022407Z
URL:https://www.nebraskashooters.com/events/ccw-pierce-5-11-19/
SUMMARY:CCW- Pierce 5-11-19
DESCRIPTION:We are offering a Mothers' Day Special this weekend!   Bring 
 your favorite mother for half price!  Just use the Coupon Code "MOM" at c
 heck out for Mom's registration. This  Nebraska Concealed Carry class Nor
 thwest of Norfolk at the Town and Country Insurance at 210 E. Main St in P
 ierce.\n\nThis Nebraska Concealed Handgun Training will be instructed by 
 Randel Schnebel. This is the course required by the State of Nebraska to s
 atisfy the training requirements to get your Concealed Handgun Permit (CHP
 ). After years of refinement our instructors have developed a course that 
 is easy for the new shooter to understand while still offering excellent i
 nformation to the experienced shooters. The Nebraska Conceal Handgun Train
 ing will meet requirements to get your Nebraska permit. Nebraska’s permi
 t will enable legal concealed carry in 35 states.  Check out the reciproc
 ity page for more details. This class will also meet the requirements for 
 Kansas\, Iowa or Colorado residents to get their concealed carry permit. T
 his is a non-NRA course taught by an NRA Certified Instructor in strict ac
 cordance with a state-approved lesson plan.\n\nIt is required that you bri
 ng 100 rounds of ammo and your favorite handgun with a dominant-side holst
 er  If you need to borrow a handgun and holster\, we can provide you with
  the equipment if you give us a heads up before class and you will just n
 eed to pay for the ammunition.  You will also need eye and hearing protec
 tion.  Please bring a sack lunch. Drinks and snacks will be available thr
 oughout the day.\n\nGuarantee: As many of you know\, there are instructors
  in Nebraska who are offering a quickie course which does not cover the re
 quired material.  Our classes are guaranteed to cover the required materi
 al so there is no risk of you losing your permit due to inadequate trainin
 g. This also ensures that you have been introduced to the legal responsibi
 lities of carrying a firearm for self defense which could easily save you 
 a lot of trouble and hopefully keep you out of court.\n\nFor those seeking
  the Minnesota Non-Resident\, please keep in mind that the Minnesota train
 ing requires much of the material that is the Nebraska Shooters Nebraska C
 oncealed Handgun Course. If you took your Nebraska course elsewhere\, you 
 will need to take advantage of our free refresher course and attend the en
 tire day to meet the requirements. If you took your CHP course through us\
 , you can simply attend the Minnesota portion which should begin around 5:
 00 pm.\n\nGroup discounts are available- Click here for details
ATTACH;FMTTYPE=image/jpeg:https://www.nebraskashooters.com/wp-content/uplo
 ads/2018/07/ComeSeeNS.jpg
CATEGORIES:Everything,Nebraska Concealed Handgun Training,Norfolk,Pierce
LOCATION:Town & Country\, 210 E Main St\, Pierce\, NE\, 68767\, United Stat
 es
GEO:42.19907;-97.525905
X-APPLE-STRUCTURED-LOCATION;VALUE=URI;X-ADDRESS=210 E Main St\, Pierce\, NE
 \, 68767\, United States;X-APPLE-RADIUS=100;X-TITLE=Town & Country:geo:42.
 19907,-97.525905
END:VEVENT
BEGIN:VTIMEZONE
TZID:America/North_Dakota/Center
X-LIC-LOCATION:America/North_Dakota/Center
BEGIN:DAYLIGHT
DTSTART:20190310T030000
TZOFFSETFROM:-0600
TZOFFSETTO:-0500
TZNAME:CDT
END:DAYLIGHT
END:VTIMEZONE
END:VCALENDAR