BEGIN:VCALENDAR
VERSION:2.0
PRODID:-//wp-events-plugin.com//7.2.3.1//EN
TZID:America/North_Dakota/Center
X-WR-TIMEZONE:America/North_Dakota/Center
BEGIN:VEVENT
UID:799@nebraskashooters.com
DTSTART;TZID=America/North_Dakota/Center:20190427T080000
DTEND;TZID=America/North_Dakota/Center:20190427T180000
DTSTAMP:20190407T021548Z
URL:https://www.nebraskashooters.com/events/ccw-pierce-4-27-19/
SUMMARY:CCW- Pierce 4-27-19
DESCRIPTION:We are pleased to announce that we are teaching Nebraska Conce
 aled Carry class Northwest of Norfolk at the Town and Country Insurance
  at 210 E. Main St in Pierce.\n\nThis Nebraska Concealed Handgun Training
  will be instructed by Randel Schnebel. This is the course required by th
 e State of Nebraska to satisfy the training requirements to get your Conce
 aled Handgun Permit (CHP). After years of refinement our instructors have 
 developed a course that is easy for the new shooter to understand while st
 ill offering excellent information to the experienced shooters. The Nebras
 ka Conceal Handgun Training will meet requirements to get your Nebraska pe
 rmit. Nebraska’s permit will enable legal concealed carry in 35 states. 
  Check out the reciprocity page for more details. This class will also me
 et the requirements for Kansas\, Iowa or Colorado residents to get their c
 oncealed carry permit. This is a non-NRA course taught by an NRA Certified
  Instructor in strict accordance with a state-approved lesson plan.\n\nIt 
 is required that you bring 100 rounds of ammo and your favorite handgun wi
 th a dominant-side holster  If you need to borrow a handgun and holster\,
  we can provide you with the equipment if you give us a heads up before cl
 ass and you will just need to pay for the ammunition.  You will also nee
 d eye and hearing protection.  Please bring a sack lunch. Drinks and snac
 ks will be available throughout the day.\n\nGuarantee: As many of you know
 \, there are instructors in Nebraska who are offering a quickie course whi
 ch does not cover the required material.  Our classes are guaranteed to c
 over the required material so there is no risk of you losing your permit d
 ue to inadequate training. This also ensures that you have been introduced
  to the legal responsibilities of carrying a firearm for self defense whic
 h could easily save you a lot of trouble and hopefully keep you out of cou
 rt.\n\nFor those seeking the Minnesota Non-Resident\, please keep in mind 
 that the Minnesota training requires much of the material that is the Nebr
 aska Shooters Nebraska Concealed Handgun Course. If you took your Nebraska
  course elsewhere\, you will need to take advantage of our free refresher 
 course and attend the entire day to meet the requirements. If you took you
 r CHP course through us\, you can simply attend the Minnesota portion whic
 h should begin around 5:00 pm.\n\nGroup discounts are available- Click her
 e for details
ATTACH;FMTTYPE=image/jpeg:https://www.nebraskashooters.com/wp-content/uplo
 ads/2018/07/ComeSeeNS.jpg
CATEGORIES:Everything,Nebraska Concealed Handgun Training,Norfolk,Pierce
LOCATION:Town & Country\, 210 E Main St\, Pierce\, NE\, 68767\, United Stat
 es
GEO:42.19907;-97.525905
X-APPLE-STRUCTURED-LOCATION;VALUE=URI;X-ADDRESS=210 E Main St\, Pierce\, NE
 \, 68767\, United States;X-APPLE-RADIUS=100;X-TITLE=Town & Country:geo:42.
 19907,-97.525905
END:VEVENT
BEGIN:VTIMEZONE
TZID:America/North_Dakota/Center
X-LIC-LOCATION:America/North_Dakota/Center
BEGIN:DAYLIGHT
DTSTART:20190310T030000
TZOFFSETFROM:-0600
TZOFFSETTO:-0500
TZNAME:CDT
END:DAYLIGHT
END:VTIMEZONE
END:VCALENDAR