BEGIN:VCALENDAR
VERSION:2.0
PRODID:-//wp-events-plugin.com//7.2.3.1//EN
TZID:America/North_Dakota/Center
X-WR-TIMEZONE:America/North_Dakota/Center
BEGIN:VEVENT
UID:532@nebraskashooters.com
DTSTART;TZID=America/North_Dakota/Center:20171111T080000
DTEND;TZID=America/North_Dakota/Center:20171111T180000
DTSTAMP:20171026T120215Z
URL:https://www.nebraskashooters.com/events/ccw-pierce-11-11-17/
SUMMARY:CCW- Pierce 11-11-17
DESCRIPTION:\n	We are pleased to announce that we are teaching&nbsp\;Nebras
 ka Concealed Carry class Northwest of&nbsp\;Norfolk&nbsp\;at&nbsp\;the Tow
 n and Country Insurance at 210 E. Main St in Pierce.&nbsp\;&nbsp\;\n\n\n\n
 	This Nebraska Concealed Handgun Training&nbsp\;will be instructed by Rand
 el Schnebel. This is the course required by the State of Nebraska to satis
 fy the training requirements to get your Concealed Handgun Permit (CHP). A
 fter years of refinement our instructors have developed a course that is e
 asy for the new shooter to understand while still offering excellent infor
 mation to the experienced shooters.&nbsp\;The Nebraska Conceal Handgun Tra
 ining will meet requirements to get your Nebraska permit. Nebraska&rsquo\;
 s permit will enable legal concealed carry in 34&nbsp\;states. &nbsp\;Chec
 k out the reciprocity page for more details. This class will also meet the
  requirements for Kansas\, Iowa or Colorado residents to get their conceal
 ed carry permit. This is a non-NRA course taught by an NRA Certified Instr
 uctor in strict accordance with a state-approved lesson plan.\n\n\n\n	It i
 s required that you bring 100 rounds of ammo and your favorite handgun wit
 h a dominant-side holster &nbsp\;If you need to borrow a handgun and holst
 er\, we can provide you with the equipment if you give us a heads up befor
 e class&nbsp\;and you will just need to pay for the ammunition.&nbsp\; You
  will also need eye and hearing protection.&nbsp\; Please bring a sack lun
 ch. Drinks and snacks will be available throughout the day.\n\n\n\n	Guaran
 tee: As many of you know\, there are instructors in Nebraska who are offer
 ing a quickie course which does not cover the required material. &nbsp\;Ou
 r classes are guaranteed to cover the required material so there is no ris
 k of you losing your permit due to inadequate training. This also ensures 
 that you have been introduced to the legal responsibilities of carrying a 
 firearm for self defense which could easily save you a lot of trouble and 
 hopefully keep you out of court.\n\n\n\n	Group discounts are available- Cl
 ick here for details\n\n
ATTACH;FMTTYPE=image/jpeg:https://www.nebraskashooters.com/wp-content/uplo
 ads/2017/01/Nebraska-Shooters-PF-1-Billboard.jpg
CATEGORIES:Everything,Nebraska Concealed Handgun Training,Norfolk,Pierce
LOCATION:Town & Country\, 210 E Main St\, Pierce\, NE\, 68767\, United Stat
 es
GEO:42.19907;-97.525905
X-APPLE-STRUCTURED-LOCATION;VALUE=URI;X-ADDRESS=210 E Main St\, Pierce\, NE
 \, 68767\, United States;X-APPLE-RADIUS=100;X-TITLE=Town & Country:geo:42.
 19907,-97.525905
END:VEVENT
BEGIN:VTIMEZONE
TZID:America/North_Dakota/Center
X-LIC-LOCATION:America/North_Dakota/Center
BEGIN:STANDARD
DTSTART:20171105T010000
TZOFFSETFROM:-0500
TZOFFSETTO:-0600
TZNAME:CST
END:STANDARD
END:VTIMEZONE
END:VCALENDAR