BEGIN:VCALENDAR
VERSION:2.0
PRODID:-//wp-events-plugin.com//7.2.3.1//EN
TZID:America/North_Dakota/Center
X-WR-TIMEZONE:America/North_Dakota/Center
BEGIN:VEVENT
UID:408@nebraskashooters.com
DTSTART;TZID=America/North_Dakota/Center:20170722T080000
DTEND;TZID=America/North_Dakota/Center:20170722T163000
DTSTAMP:20170312T151330Z
URL:https://www.nebraskashooters.com/events/ccw-ogallala-7-22-17/
SUMMARY:CCW- Ogallala-7-22-17
DESCRIPTION:\n	Nebraska Concealed Handgun Training\n\n\n\n	instructed by Ji
 m McChesney\, Colten Chandler\, Mike Mosel and Neil Williams\n\n\n\n	This 
 is the Nebraska Concealed Handgun Training course required by the State of
  Nebraska to satisfy the training requirements to get your Concealed Handg
 un Permit (CHP or CCW). After years of refinement our team of instructors 
 have developed a course that is easy for the new shooter to understand whi
 le still offering excellent information to the experienced shooters.&nbsp\
 ;The Nebraska Conceal Handgun Training will meet requirements to get your 
 Nebraska permit as well as your Florida or Arizona non-resident permit. Ne
 braska&rsquo\;s permit will enable legal concealed carry in 34&nbsp\;state
 s. &nbsp\;Check out our RECIPROCITY PAGE for more information. This class 
 will also meet the requirements for Iowa or Colorado residents to get thei
 r concealed carry permit. This is a non-NRA course taught by an NRA Certif
 ied Instructor in strict accordance with a state-approved lesson plan.\n\n
 \n\n	The&nbsp\;lessons concerning the safe handling of handguns and shooti
 ng fundamentals is based on the material in the NRA Basic Pistol course. I
 f you are interested in obtaining the NRA Basic Pistol certification pleas
 e let us know before class and we will take the additional steps to meet t
 he requirements at no extra charge. &nbsp\;The NRA certification will meet
  the prerequisites to take the Personal Protection in the Home course as w
 ell as the NRA Defensive Pistol Course.\n\n\n\n	It is recommended that you
  bring 100 rounds of ammo and your favorite handgun with a dominant-side h
 olster.&nbsp\; You will also need eye and hearing protection.&nbsp\; Upon 
 receiving your permit\, you will not be restricted to carrying the handgun
  you brought to class.\n\n\n\n	Lunch will be provided so please notify us 
 if you have any dietary restrictions so we can make other arrangements. &n
 bsp\;If you are interested in getting your Minnesota Non-Resident carry pe
 rmit\, you also hae the opportunity to stick around after class and attend
  a short session to satisfy the Minnesota requirements for training for on
 ly $20.\n\n\n\n	Guarantee:&nbsp\; Our Nebraska Concealed Handgun Training 
 or &quot\;Concealed Carry&quot\;&nbsp\;course is guaranteed to cover all o
 f the material required by the Nebraska State Patrol and more.&nbsp\; If y
 ou are unsure if your current certification is adequate please feel free t
 o attend our class and for free and trade in your certificate. This will h
 elp to ensure that if your instructor loses their credentials for failing 
 to present the required material\, you will have a legitimate certificate.
 &nbsp\; Please feel free to bring a friend or send one to a future class a
 s a token of your appreciation.\n\n
ATTACH;FMTTYPE=image/jpeg:https://www.nebraskashooters.com/wp-content/uplo
 ads/2017/01/Nebraska-Shooters-PF-1-Billboard.jpg
CATEGORIES:Basic Pistol,Everything,Nebraska Concealed Handgun Training,NRA
 Student Courses,Ogallala
LOCATION:Hidden Canyon Ranch\, 59R8+9W Keystone\, Ogallala\, Nebraska\, Uni
 ted States
GEO:41.191083;-101.631872
X-APPLE-STRUCTURED-LOCATION;VALUE=URI;X-ADDRESS=59R8+9W Keystone\, Ogallala
 \, Nebraska\, United States;X-APPLE-RADIUS=100;X-TITLE=Hidden Canyon Ranch
 :geo:41.191083,-101.631872
END:VEVENT
BEGIN:VTIMEZONE
TZID:America/North_Dakota/Center
X-LIC-LOCATION:America/North_Dakota/Center
BEGIN:DAYLIGHT
DTSTART:20170312T030000
TZOFFSETFROM:-0600
TZOFFSETTO:-0500
TZNAME:CDT
END:DAYLIGHT
END:VTIMEZONE
END:VCALENDAR