BEGIN:VCALENDAR
VERSION:2.0
PRODID:-//wp-events-plugin.com//7.2.3.1//EN
TZID:America/North_Dakota/Center
X-WR-TIMEZONE:America/North_Dakota/Center
BEGIN:VEVENT
UID:808@nebraskashooters.com
DTSTART;TZID=America/North_Dakota/Center:20190518T080000
DTEND;TZID=America/North_Dakota/Center:20190518T163000
DTSTAMP:20190430T123250Z
URL:https://www.nebraskashooters.com/events/ccw-ogallala-5-18-19/
SUMMARY:CCW- Ogallala-5-18-19
DESCRIPTION:Nebraska Concealed Handgun Training\ninstructed by Jim McChesne
 y &amp\; Mike Mosel\nLocation: 1391 Rd East E N (Southeast of Lake McCona
 ughy)\n\nThis is the Nebraska Concealed Handgun Training course required b
 y the State of Nebraska to satisfy the training requirements to get your C
 oncealed Handgun Permit (CHP or CCW). After years of refinement our team o
 f instructors have developed a course that is easy for the new shooter to 
 understand while still offering excellent information to the experienced s
 hooters. The Nebraska Conceal Handgun Training will meet requirements to 
 get your Nebraska permit as well as your Florida or Arizona non-resident p
 ermit. Nebraska’s permit will enable legal concealed carry in 34 states
 .  Check out our RECIPROCITY PAGE for more information. This class will a
 lso meet the requirements for Iowa or Colorado residents to get their conc
 ealed carry permit. This is a non-NRA course taught by an NRA Certified In
 structor in strict accordance with a state-approved lesson plan.\n\nThe l
 essons concerning the safe handling of handguns and shooting fundamentals 
 is based on the material in the NRA Basic Pistol course. If you are intere
 sted in obtaining the NRA Basic Pistol certification please let us know be
 fore class and we will take the additional steps to meet the requirements 
 at no extra charge.  The NRA certification will meet the prerequisites to
  take the Personal Protection in the Home course as well as the NRA Defens
 ive Pistol Course.\n\nIt is recommended that you bring 100 rounds of ammo 
 and your favorite handgun with a dominant-side holster.  You will also ne
 ed eye and hearing protection.  Upon receiving your permit\, you will not
  be restricted to carrying the handgun you brought to class.\n\nLunch will
  be provided so please notify us if you have any dietary restrictions so w
 e can make other arrangements.  If you are interested in getting your Min
 nesota Non-Resident carry permit\, you also hae the opportunity to stick a
 round after class and attend a short session to satisfy the Minnesota requ
 irements for training for only $20.\n\nGuarantee:  Our Nebraska Concealed
  Handgun Training or "Concealed Carry" course is guaranteed to cover all 
 of the material required by the Nebraska State Patrol and more.  If you a
 re unsure if your current certification is adequate please feel free to at
 tend our class and for free and trade in your certificate. This will help 
 to ensure that if your instructor loses their credentials for failing to p
 resent the required material\, you will have a legitimate certificate.  P
 lease feel free to bring a friend or send one to a future class as a token
  of your appreciation.\n\nWe will need to have at least 10 students signed
  up for this class so if you sign up and we do not meet our goal you will 
 be refunded or given credit to take one of our other classes.  If the goa
 l is met and you opt to not show up\, you will not be refunded\, but you w
 ill be given credit for another class.
ATTACH;FMTTYPE=image/jpeg:https://www.nebraskashooters.com/wp-content/uplo
 ads/2018/07/ComeSeeNS.jpg
CATEGORIES:Basic Pistol,Everything,Nebraska Concealed Handgun Training,NRA
 Student Courses,Ogallala,Panhandle
LOCATION:Hidden Canyon Ranch\, 59R8+9W Keystone\, Ogallala\, Nebraska\, Uni
 ted States
GEO:41.191083;-101.631872
X-APPLE-STRUCTURED-LOCATION;VALUE=URI;X-ADDRESS=59R8+9W Keystone\, Ogallala
 \, Nebraska\, United States;X-APPLE-RADIUS=100;X-TITLE=Hidden Canyon Ranch
 :geo:41.191083,-101.631872
END:VEVENT
BEGIN:VTIMEZONE
TZID:America/North_Dakota/Center
X-LIC-LOCATION:America/North_Dakota/Center
BEGIN:DAYLIGHT
DTSTART:20190310T030000
TZOFFSETFROM:-0600
TZOFFSETTO:-0500
TZNAME:CDT
END:DAYLIGHT
END:VTIMEZONE
END:VCALENDAR