BEGIN:VCALENDAR
VERSION:2.0
PRODID:-//wp-events-plugin.com//7.2.3.1//EN
TZID:America/North_Dakota/Center
X-WR-TIMEZONE:America/North_Dakota/Center
BEGIN:VEVENT
UID:790@nebraskashooters.com
DTSTART;TZID=America/North_Dakota/Center:20190427T080000
DTEND;TZID=America/North_Dakota/Center:20190427T163000
DTSTAMP:20190325T134732Z
URL:https://www.nebraskashooters.com/events/ccw-ogallala-4-27-19/
SUMMARY:CCW- Ogallala-4-27-19
DESCRIPTION:Nebraska Concealed Handgun Training\ninstructed by Jim McChesne
 y\, Mike Mosel\, and Neil Williams\nLocation: 1391 Rd East E N (Southeast
  of Lake McConaughy)\n\nThis is the Nebraska Concealed Handgun Training co
 urse required by the State of Nebraska to satisfy the training requirement
 s to get your Concealed Handgun Permit (CHP or CCW). After years of refine
 ment our team of instructors have developed a course that is easy for the 
 new shooter to understand while still offering excellent information to th
 e experienced shooters. The Nebraska Conceal Handgun Training will meet r
 equirements to get your Nebraska permit as well as your Florida or Arizona
  non-resident permit. Nebraska’s permit will enable legal concealed carr
 y in 34 states.  Check out our RECIPROCITY PAGE for more information. Th
 is class will also meet the requirements for Iowa or Colorado residents to
  get their concealed carry permit. This is a non-NRA course taught by an N
 RA Certified Instructor in strict accordance with a state-approved lesson 
 plan.\n\nThe lessons concerning the safe handling of handguns and shootin
 g fundamentals is based on the material in the NRA Basic Pistol course. If
  you are interested in obtaining the NRA Basic Pistol certification please
  let us know before class and we will take the additional steps to meet th
 e requirements at no extra charge.  The NRA certification will meet the p
 rerequisites to take the Personal Protection in the Home course as well as
  the NRA Defensive Pistol Course.\n\nIt is recommended that you bring 100 
 rounds of ammo and your favorite handgun with a dominant-side holster.  Y
 ou will also need eye and hearing protection.  Upon receiving your permit
 \, you will not be restricted to carrying the handgun you brought to class
 .\n\nLunch will be provided so please notify us if you have any dietary re
 strictions so we can make other arrangements.  If you are interested in g
 etting your Minnesota Non-Resident carry permit\, you also hae the opportu
 nity to stick around after class and attend a short session to satisfy the
  Minnesota requirements for training for only $20.\n\nGuarantee:  Our Neb
 raska Concealed Handgun Training or "Concealed Carry" course is guarantee
 d to cover all of the material required by the Nebraska State Patrol and m
 ore.  If you are unsure if your current certification is adequate please 
 feel free to attend our class and for free and trade in your certificate. 
 This will help to ensure that if your instructor loses their credentials f
 or failing to present the required material\, you will have a legitimate c
 ertificate.  Please feel free to bring a friend or send one to a future c
 lass as a token of your appreciation.\n\nWe will need to have at least 10 
 students signed up for this class so if you sign up and we do not meet our
  goal you will be refunded or given credit to take one of our other classe
 s.  If the goal is met and you opt to not show up\, you will not be refun
 ded\, but you will be given credit for another class.
ATTACH;FMTTYPE=image/jpeg:https://www.nebraskashooters.com/wp-content/uplo
 ads/2018/07/ComeSeeNS.jpg
CATEGORIES:Basic Pistol,Everything,Nebraska Concealed Handgun Training,NRA
 Student Courses,Ogallala,Panhandle
LOCATION:Hidden Canyon Ranch\, 59R8+9W Keystone\, Ogallala\, Nebraska\, Uni
 ted States
GEO:41.191083;-101.631872
X-APPLE-STRUCTURED-LOCATION;VALUE=URI;X-ADDRESS=59R8+9W Keystone\, Ogallala
 \, Nebraska\, United States;X-APPLE-RADIUS=100;X-TITLE=Hidden Canyon Ranch
 :geo:41.191083,-101.631872
END:VEVENT
BEGIN:VTIMEZONE
TZID:America/North_Dakota/Center
X-LIC-LOCATION:America/North_Dakota/Center
BEGIN:DAYLIGHT
DTSTART:20190310T030000
TZOFFSETFROM:-0600
TZOFFSETTO:-0500
TZNAME:CDT
END:DAYLIGHT
END:VTIMEZONE
END:VCALENDAR